BEGIN:VCALENDAR
VERSION:2.0
PRODID:-//Rioja digital - ECPv6.1.3//NONSGML v1.0//EN
CALSCALE:GREGORIAN
METHOD:PUBLISH
X-ORIGINAL-URL:https://riojadigital.es
X-WR-CALDESC:Eventos para Rioja digital
REFRESH-INTERVAL;VALUE=DURATION:PT1H
X-Robots-Tag:noindex
X-PUBLISHED-TTL:PT1H
BEGIN:VTIMEZONE
TZID:Europe/Paris
BEGIN:DAYLIGHT
TZOFFSETFROM:+0100
TZOFFSETTO:+0200
TZNAME:CEST
DTSTART:20190331T010000
END:DAYLIGHT
BEGIN:STANDARD
TZOFFSETFROM:+0200
TZOFFSETTO:+0100
TZNAME:CET
DTSTART:20191027T010000
END:STANDARD
END:VTIMEZONE
BEGIN:VEVENT
DTSTART;TZID=Europe/Paris:20190218T103000
DTEND;TZID=Europe/Paris:20190218T120000
DTSTAMP:20260425T184902
CREATED:20190206T014747Z
LAST-MODIFIED:20190206T015128Z
UID:168-1550485800-1550491200@riojadigital.es
SUMMARY:Conferencia "LA EXTRAORDINARIA HISTORIA DE ALEJANDRO FARNERIO"
DESCRIPTION:Conferencia «LA EXTRAORDINARIA HISTORIA DE ALEJANDRO FARNESIO«\, impartida por D. Luis de Carlos\, Socio Presidente de Uría Menéndez\, Presentado por D. Emilio del Río Sanz y D. Jose Antonio Rupérez Caño. \nAl finalizar el acto se servira una copa de vino de Rioja.
URL:https://riojadigital.es/event/conferencia-la-extraordinaria-historia-de-alejandro-farnerio/
END:VEVENT
END:VCALENDAR