BEGIN:VCALENDAR
VERSION:2.0
PRODID:-//Rioja digital - ECPv6.1.3//NONSGML v1.0//EN
CALSCALE:GREGORIAN
METHOD:PUBLISH
X-ORIGINAL-URL:https://riojadigital.es
X-WR-CALDESC:Eventos para Rioja digital
REFRESH-INTERVAL;VALUE=DURATION:PT1H
X-Robots-Tag:noindex
X-PUBLISHED-TTL:PT1H
BEGIN:VTIMEZONE
TZID:Europe/Madrid
BEGIN:DAYLIGHT
TZOFFSETFROM:+0100
TZOFFSETTO:+0200
TZNAME:CEST
DTSTART:20190331T010000
END:DAYLIGHT
BEGIN:STANDARD
TZOFFSETFROM:+0200
TZOFFSETTO:+0100
TZNAME:CET
DTSTART:20191027T010000
END:STANDARD
END:VTIMEZONE
BEGIN:VEVENT
DTSTART;TZID=Europe/Madrid:20190603T050000
DTEND;TZID=Europe/Madrid:20190603T120000
DTSTAMP:20260423T140027
CREATED:20190603T075901Z
LAST-MODIFIED:20190603T075901Z
UID:1036-1559538000-1559563200@riojadigital.es
SUMMARY:Entrega de los galardones del Centro Riojano de Madrid
DESCRIPTION:Entrega de los galardones del Centro Riojano de Madrid.
URL:https://riojadigital.es/event/entrega-de-los-galardones-del-centro-riojano-de-madrid/
END:VEVENT
BEGIN:VEVENT
DTSTART;TZID=Europe/Madrid:20190603T103000
DTEND;TZID=Europe/Madrid:20190603T120000
DTSTAMP:20260423T140027
CREATED:20190603T073035Z
LAST-MODIFIED:20190603T073035Z
UID:1023-1559557800-1559563200@riojadigital.es
SUMMARY:Conferencia: “MIGUEL HERNÁNDEZ\, Y SUS TRES HERIDAS”
DESCRIPTION:Conferencia: “MIGUEL HERNÁNDEZ\, Y SUS TRES HERIDAS”\, impartida por D. Luis Gutiérrez Valentín y presentado por D. Vidal Pérez Herrero. Rapsodas: Dña. Rosario de la Cueva\, D. Vicente Gamo y D. Basilio Rodríguez.
URL:https://riojadigital.es/event/conferencia-miguel-hernandez-y-sus-tres-heridas/
END:VEVENT
END:VCALENDAR