BEGIN:VCALENDAR
VERSION:2.0
PRODID:-//Rioja digital - ECPv6.1.3//NONSGML v1.0//EN
CALSCALE:GREGORIAN
METHOD:PUBLISH
X-WR-CALNAME:Rioja digital
X-ORIGINAL-URL:https://riojadigital.es
X-WR-CALDESC:Eventos para Rioja digital
REFRESH-INTERVAL;VALUE=DURATION:PT1H
X-Robots-Tag:noindex
X-PUBLISHED-TTL:PT1H
BEGIN:VTIMEZONE
TZID:Europe/Madrid
BEGIN:DAYLIGHT
TZOFFSETFROM:+0100
TZOFFSETTO:+0200
TZNAME:CEST
DTSTART:20190331T010000
END:DAYLIGHT
BEGIN:STANDARD
TZOFFSETFROM:+0200
TZOFFSETTO:+0100
TZNAME:CET
DTSTART:20191027T010000
END:STANDARD
END:VTIMEZONE
BEGIN:VEVENT
DTSTART;TZID=Europe/Madrid:20190615T030000
DTEND;TZID=Europe/Madrid:20190615T120000
DTSTAMP:20260423T123341
CREATED:20190603T082312Z
LAST-MODIFIED:20190603T082312Z
UID:1044-1560567600-1560600000@riojadigital.es
SUMMARY:Entrega de los galardones del Centro Riojano de Madrid.
DESCRIPTION:Entrega de los galardones del Centro Riojano de Madrid.
URL:https://riojadigital.es/event/entrega-de-los-galardones-del-centro-riojano-de-madrid-2/
END:VEVENT
BEGIN:VEVENT
DTSTART;TZID=Europe/Madrid:20190615T040000
DTEND;TZID=Europe/Madrid:20190615T120000
DTSTAMP:20260423T123341
CREATED:20190603T075722Z
LAST-MODIFIED:20190603T075722Z
UID:1035-1560571200-1560600000@riojadigital.es
SUMMARY:Misa en la Iglesia Parroquial Santísimo Cristo de la Salud\, C/ Ayala\, 12\, Madrid\, oficiada por el Rvdo. P. Santiago Madrigal Terrazas. Interviene el Coro Galileo.
DESCRIPTION:Misa en la Iglesia Parroquial Santísimo Cristo de la Salud\, C/ Ayala\, 12\, Madrid\, oficiada por el Rvdo. P. Santiago Madrigal Terrazas.\nInterviene el Coro Galileo.
URL:https://riojadigital.es/event/misa-en-la-iglesia-parroquial-santisimo-cristo-de-la-salud-c-ayala-12-madrid-oficiada-por-el-rvdo-p-santiago-madrigal-terrazas-interviene-el-coro-galileo/
END:VEVENT
BEGIN:VEVENT
DTSTART;TZID=Europe/Madrid:20190615T060000
DTEND;TZID=Europe/Madrid:20190615T120000
DTSTAMP:20260423T123341
CREATED:20190603T082447Z
LAST-MODIFIED:20190603T082447Z
UID:1045-1560578400-1560600000@riojadigital.es
SUMMARY:Comida de Hermandad Riojana.
DESCRIPTION:Comida de Hermandad Riojana.
URL:https://riojadigital.es/event/comida-de-hermandad-riojana/
END:VEVENT
END:VCALENDAR