BEGIN:VCALENDAR
VERSION:2.0
PRODID:-//Rioja digital - ECPv6.1.3//NONSGML v1.0//EN
CALSCALE:GREGORIAN
METHOD:PUBLISH
X-WR-CALNAME:Rioja digital
X-ORIGINAL-URL:https://riojadigital.es
X-WR-CALDESC:Eventos para Rioja digital
REFRESH-INTERVAL;VALUE=DURATION:PT1H
X-Robots-Tag:noindex
X-PUBLISHED-TTL:PT1H
BEGIN:VTIMEZONE
TZID:Europe/Madrid
BEGIN:DAYLIGHT
TZOFFSETFROM:+0100
TZOFFSETTO:+0200
TZNAME:CEST
DTSTART:20190331T010000
END:DAYLIGHT
BEGIN:STANDARD
TZOFFSETFROM:+0200
TZOFFSETTO:+0100
TZNAME:CET
DTSTART:20191027T010000
END:STANDARD
END:VTIMEZONE
BEGIN:VEVENT
DTSTART;TZID=Europe/Madrid:20190918T103000
DTEND;TZID=Europe/Madrid:20190918T103000
DTSTAMP:20260423T123335
CREATED:20190911T040722Z
LAST-MODIFIED:20190911T040722Z
UID:1263-1568802600-1568802600@riojadigital.es
SUMMARY:II FORO DE LAS NACIONES UNIDAS
DESCRIPTION:Miércoles\, 18 de septiembre de 2019 \n19:30 horas. Salón la Lengua. \nII FORO DE LAS NACIONES UNIDAS. Conferencia “TÚNEZ EN EL CAMINO HACIA LA DEMOCRACIA”\, impartida  por el Excmo. Sr. D. Wacef Chiha\, embajador de Túnez en España. \nPreside: D. José Antonio Rupérez Caño\, presidente del Centro Riojano de Madrid. Presenta: D. Joaquín Antuña\, presidente de Paz y Cooperación. \nAl finalizar el acto se servirá un vino de Rioja.
URL:https://riojadigital.es/event/ii-foro-de-las-naciones-unidas/
END:VEVENT
END:VCALENDAR