BEGIN:VCALENDAR
VERSION:2.0
PRODID:-//Rioja digital - ECPv6.1.3//NONSGML v1.0//EN
CALSCALE:GREGORIAN
METHOD:PUBLISH
X-ORIGINAL-URL:https://riojadigital.es
X-WR-CALDESC:Eventos para Rioja digital
REFRESH-INTERVAL;VALUE=DURATION:PT1H
X-Robots-Tag:noindex
X-PUBLISHED-TTL:PT1H
BEGIN:VTIMEZONE
TZID:Europe/Madrid
BEGIN:DAYLIGHT
TZOFFSETFROM:+0100
TZOFFSETTO:+0200
TZNAME:CEST
DTSTART:20190331T010000
END:DAYLIGHT
BEGIN:STANDARD
TZOFFSETFROM:+0200
TZOFFSETTO:+0100
TZNAME:CET
DTSTART:20191027T010000
END:STANDARD
END:VTIMEZONE
BEGIN:VEVENT
DTSTART;TZID=Europe/Madrid:20190920T103000
DTEND;TZID=Europe/Madrid:20190920T103000
DTSTAMP:20260421T142252
CREATED:20190911T040923Z
LAST-MODIFIED:20190911T040923Z
UID:1265-1568975400-1568975400@riojadigital.es
SUMMARY:Presentación libro “¿QUIÉN LEERÁ ESTO?
DESCRIPTION:Viernes\, 20 de septiembre de 2019 \n19:30 horas. Salón Gonzalo de Berceo. \nPresentación libro “¿QUIÉN LEERÁ ESTO? de D. José Félix Olalla. Editorial Vitruvio.
URL:https://riojadigital.es/event/presentacion-libro-quien-leera-esto/
END:VEVENT
END:VCALENDAR