BEGIN:VCALENDAR
VERSION:2.0
PRODID:-//Rioja digital - ECPv6.1.3//NONSGML v1.0//EN
CALSCALE:GREGORIAN
METHOD:PUBLISH
X-WR-CALNAME:Rioja digital
X-ORIGINAL-URL:https://riojadigital.es
X-WR-CALDESC:Eventos para Rioja digital
REFRESH-INTERVAL;VALUE=DURATION:PT1H
X-Robots-Tag:noindex
X-PUBLISHED-TTL:PT1H
BEGIN:VTIMEZONE
TZID:Europe/Madrid
BEGIN:DAYLIGHT
TZOFFSETFROM:+0100
TZOFFSETTO:+0200
TZNAME:CEST
DTSTART:20190331T010000
END:DAYLIGHT
BEGIN:STANDARD
TZOFFSETFROM:+0200
TZOFFSETTO:+0100
TZNAME:CET
DTSTART:20191027T010000
END:STANDARD
END:VTIMEZONE
BEGIN:VEVENT
DTSTART;TZID=Europe/Madrid:20191002T103000
DTEND;TZID=Europe/Madrid:20191007T023742
DTSTAMP:20260421T144040
CREATED:20191007T043742Z
LAST-MODIFIED:20191007T043742Z
UID:1339-1570012200-1570415862@riojadigital.es
SUMMARY:Recital de poesía
DESCRIPTION:Recital de poesía “EN TARDES DE PROMETEO”\, espacio literario de la Asociación Prometeo de Poesía.  Coordina: Ángela Reyes.
URL:https://riojadigital.es/event/recital-de-poesia/
END:VEVENT
BEGIN:VEVENT
DTSTART;TZID=Europe/Madrid:20191003T103000
DTEND;TZID=Europe/Madrid:20191007T023929
DTSTAMP:20260421T144040
CREATED:20191007T043929Z
LAST-MODIFIED:20191007T043929Z
UID:1341-1570098600-1570415969@riojadigital.es
SUMMARY:Curso de inicio a la escritura creativa: RENGLONES LITERARIOS
DESCRIPTION:Coordinado por Dña. Rosa Fernández y presentado por Dña. Marisa Rodríguez\, presidenta de Mujeres en Igualdad. Distrito de Salamanca. \nPrecio del curso completo 50 € p.p.
URL:https://riojadigital.es/event/curso-de-inicio-a-la-escritura-creativa-renglones-literarios/
END:VEVENT
BEGIN:VEVENT
DTSTART;TZID=Europe/Madrid:20191004T103000
DTEND;TZID=Europe/Madrid:20191007T024112
DTSTAMP:20260421T144040
CREATED:20191007T044112Z
LAST-MODIFIED:20191007T044112Z
UID:1342-1570185000-1570416072@riojadigital.es
SUMMARY:Presentación libro “CADA COSA A SU TIEMPO”
DESCRIPTION:D. Carlos María Maínez. Editorial Vitruvio.
URL:https://riojadigital.es/event/presentacion-libro-cada-cosa-a-su-tiempo/
END:VEVENT
BEGIN:VEVENT
DTSTART;TZID=Europe/Madrid:20191006T230000
DTEND;TZID=Europe/Madrid:20191007T080000
DTSTAMP:20260421T144040
CREATED:20191007T044902Z
LAST-MODIFIED:20191007T044902Z
UID:1347-1570402800-1570435200@riojadigital.es
SUMMARY:Presentación del libro “50 AÑOS DE PERIODISMO CALLEJERO”
DESCRIPTION:Presentación del libro “50 AÑOS DE PERIODISMO CALLEJERO”\, del periodista riojano D.  Antonio Martín Escorza. \nPresentado por D. Diego Iturriaga Barco\, Director General de Cultura del Gobierno de La Rioja y D. José Antonio Rupérez Caño\, presidente del Centro Riojano de Madrid. \nAl finalizar el acto se servirá un vino de Rioja
URL:https://riojadigital.es/event/presentacion-del-libro-50-anos-de-periodismo-callejero/
END:VEVENT
BEGIN:VEVENT
DTSTART;TZID=Europe/Madrid:20191006T230000
DTEND;TZID=Europe/Madrid:20191007T080000
DTSTAMP:20260421T144040
CREATED:20191007T044958Z
LAST-MODIFIED:20191007T044958Z
UID:1349-1570402800-1570435200@riojadigital.es
SUMMARY:Conferencia “LOS CONTENCIOSOS DIPLOMÁTICOS ESPAÑOLES (Gibraltar\, Ceuta\, Melilla y el Sahara)”
DESCRIPTION:Conferencia “LOS CONTENCIOSOS DIPLOMÁTICOS ESPAÑOLES (Gibraltar\, Ceuta\, Melilla y el Sahara)”\, impartida por D. Ángel Manuel Ballesteros\, escritor y diplomático español. \nAl finalizar el acto se servirá un vino de Rioja
URL:https://riojadigital.es/event/conferencia-los-contenciosos-diplomaticos-espanoles-gibraltar-ceuta-melilla-y-el-sahara/
END:VEVENT
BEGIN:VEVENT
DTSTART;TZID=Europe/Madrid:20191006T230000
DTEND;TZID=Europe/Madrid:20191007T080000
DTSTAMP:20260421T144040
CREATED:20191007T051457Z
LAST-MODIFIED:20191007T051457Z
UID:1357-1570402800-1570435200@riojadigital.es
SUMMARY:Concierto de jazz de la joven pianista\, cantante y compositora riojana\, ANDREA DE BLAS
DESCRIPTION:Concierto de jazz de la joven pianista\, cantante y compositora riojana\, ANDREA DE BLAS. Algunas de las letras son poemas de Emily Dickinson\, Federico García Lorca o incluso\, Marilyn Monroe. \nEntradas ya a la venta. \nEntrada general 10 € en el enlace: \nhttps://www.eventbrite.es/e/entradas-andrea-de-blas-en-concierto-67965447483 \n  \nEntradas para los socios: 7 € (comprar en el Centro Riojano)
URL:https://riojadigital.es/event/concierto-de-jazz-de-la-joven-pianista-cantante-y-compositora-riojana-andrea-de-blas/
END:VEVENT
BEGIN:VEVENT
DTSTART;TZID=Europe/Madrid:20191008T100000
DTEND;TZID=Europe/Madrid:20191008T100000
DTSTAMP:20260421T144040
CREATED:20191007T044317Z
LAST-MODIFIED:20191007T044317Z
UID:1343-1570528800-1570528800@riojadigital.es
SUMMARY:Recital de Poesía del ciclo LA RIOJA POÉTICA
DESCRIPTION:Dirigido  por Dña. Rosario de la Cueva. Recital a cargo de los poetas \nDña. Trinidad Romero Blanco y D. Manuel Quiroga Clérigo \nAl finalizar el acto se servirá un vino de Rioja.
URL:https://riojadigital.es/event/recital-de-poesia-del-ciclo-la-rioja-poetica-5/
END:VEVENT
BEGIN:VEVENT
DTSTART;TZID=Europe/Madrid:20191008T103000
DTEND;TZID=Europe/Madrid:20191008T103000
DTSTAMP:20260421T144040
CREATED:20191007T044516Z
LAST-MODIFIED:20191007T044516Z
UID:1344-1570530600-1570530600@riojadigital.es
SUMMARY:Presentación del libro “CRONÍCAS BABILONIAS”
DESCRIPTION:Por su autor D. Joaquín Antuña\, presidente de Paz y Cooperación\, \nIntervienen:  Dña. Roxa Ortiz\, Periodista; y D. Arturo Pérez Martínez\, Embajador de España; \nPreside:  D. José Antonio Rupérez Caño\, presidente del Centro Riojano
URL:https://riojadigital.es/event/presentacion-del-libro-cronicas-babilonias/
END:VEVENT
BEGIN:VEVENT
DTSTART;TZID=Europe/Madrid:20191009T100000
DTEND;TZID=Europe/Madrid:20191009T100000
DTSTAMP:20260421T144040
CREATED:20191007T044638Z
LAST-MODIFIED:20191007T044717Z
UID:1345-1570615200-1570615200@riojadigital.es
SUMMARY:Presentación libro “LA CRIADORA”
DESCRIPTION:Presentación libro “LA CRIADORA”\, por su Autor: D. Sergio H. López Pastor\, escritor. \nPresentado por D. José Antonio Rupérez Caño\, presidente del Centro Riojano \nAl finalizar el acto se servirá un vino de Rioja.
URL:https://riojadigital.es/event/presentacion-libro-la-criadora/
END:VEVENT
BEGIN:VEVENT
DTSTART;TZID=Europe/Madrid:20191010T103000
DTEND;TZID=Europe/Madrid:20191010T103000
DTSTAMP:20260421T144040
CREATED:20191007T044810Z
LAST-MODIFIED:20191007T044810Z
UID:1346-1570703400-1570703400@riojadigital.es
SUMMARY:Presentación libro “LA VIDA A CONTRATIEMPO
DESCRIPTION:Presentación libro “LA VIDA A CONTRATIEMPO de D. Miguel Galanes. Editorial Vitruvio.
URL:https://riojadigital.es/event/presentacion-libro-la-vida-a-contratiempo/
END:VEVENT
BEGIN:VEVENT
DTSTART;TZID=Europe/Madrid:20191016T103000
DTEND;TZID=Europe/Madrid:20191016T103000
DTSTAMP:20260421T144040
CREATED:20191007T045118Z
LAST-MODIFIED:20191007T045118Z
UID:1350-1571221800-1571221800@riojadigital.es
SUMMARY:Conferencia “LA 9ª SINFONÍA DE BEETHOVEN\, PATRIMONIO DE LA HUMANIDAD”
DESCRIPTION:Conferencia “LA 9ª SINFONÍA DE BEETHOVEN\, PATRIMONIO DE LA HUMANIDAD”\, impartida por Dña. Almudena Arribas Bergado\, y presentada por D. José Antonio Rupérez Caño. \nAl finalizar el acto se servirá un vino de Rioja
URL:https://riojadigital.es/event/conferencia-la-9a-sinfonia-de-beethoven-patrimonio-de-la-humanidad/
END:VEVENT
BEGIN:VEVENT
DTSTART;TZID=Europe/Madrid:20191018T103000
DTEND;TZID=Europe/Madrid:20191018T103000
DTSTAMP:20260421T144040
CREATED:20191007T045220Z
LAST-MODIFIED:20191007T045220Z
UID:1351-1571394600-1571394600@riojadigital.es
SUMMARY:Presentación libro “MORIR ES COMO UN CUENTO”
DESCRIPTION:Presentación libro “MORIR ES COMO UN CUENTO”\, de D. Pablo Méndez. Editorial Vitruvio
URL:https://riojadigital.es/event/presentacion-libro-morir-es-como-un-cuento/
END:VEVENT
BEGIN:VEVENT
DTSTART;TZID=Europe/Madrid:20191021T100000
DTEND;TZID=Europe/Madrid:20191021T100000
DTSTAMP:20260421T144040
CREATED:20191007T045335Z
LAST-MODIFIED:20191007T045335Z
UID:1352-1571652000-1571652000@riojadigital.es
SUMMARY:Presentación del libro “EL FUERISMO LIBERAL VASCO”
DESCRIPTION:Presentación del libro “EL FUERISMO LIBERAL VASCO”\, \npor su autor D. Guillermo Cortázar\, político e historiador y presentado por D. German Rueda\, Catedrático de Historia contemporánea. \nAl finalizar el acto se servirá un vino de Rioja.
URL:https://riojadigital.es/event/presentacion-del-libro-el-fuerismo-liberal-vasco/
END:VEVENT
BEGIN:VEVENT
DTSTART;TZID=Europe/Madrid:20191023T100000
DTEND;TZID=Europe/Madrid:20191023T100000
DTSTAMP:20260421T144040
CREATED:20191007T045548Z
LAST-MODIFIED:20191007T045548Z
UID:1354-1571824800-1571824800@riojadigital.es
SUMMARY:Conferencia "EL MITO DE LA NATURALEZA Y EL BIG BANG"
DESCRIPTION:Conferencia «EL MITO DE LA NATURALEZA Y EL BIG BANG»  \nLa crítica a la cosmología desde el materialismo filosófico de Gustavo Bueno \nPresenta y modera D. Carlos M. Madrid Casado
URL:https://riojadigital.es/event/conferencia-el-mito-de-la-naturaleza-y-el-big-bang/
END:VEVENT
BEGIN:VEVENT
DTSTART;TZID=Europe/Madrid:20191023T103000
DTEND;TZID=Europe/Madrid:20191023T103000
DTSTAMP:20260421T144040
CREATED:20191007T045447Z
LAST-MODIFIED:20191007T045447Z
UID:1353-1571826600-1571826600@riojadigital.es
SUMMARY:II FORO DE LAS NACIONES UNIDAS. Conferencia “DÍA DE NACIONES UNIDAS – LA OSCE”
DESCRIPTION:II FORO DE LAS NACIONES UNIDAS. Conferencia “DÍA DE NACIONES UNIDAS – LA OSCE”\, \nImpartida por la Excma. Sra. Dña. Mª Victoria Scola Pliego\, vocal asesora OSCE-MAEC. \nPreside: D. José Antonio Rupérez Caño\, presidente del Centro Riojano de Madrid. Presenta: D. Joaquín Antuña\, presidente de Paz y Cooperación. \nAl finalizar el acto se servirá un vino de Rioja
URL:https://riojadigital.es/event/ii-foro-de-las-naciones-unidas-conferencia-dia-de-naciones-unidas-la-osce/
END:VEVENT
BEGIN:VEVENT
DTSTART;TZID=Europe/Madrid:20191024T103000
DTEND;TZID=Europe/Madrid:20191024T103000
DTSTAMP:20260421T144040
CREATED:20191007T045649Z
LAST-MODIFIED:20191007T045649Z
UID:1355-1571913000-1571913000@riojadigital.es
SUMMARY:Presentación libro “POESÍA REUNIDA”
DESCRIPTION:Presentación libro “POESÍA REUNIDA” de D. Emilio Ruiz Parra. Editorial Vitruvio.
URL:https://riojadigital.es/event/presentacion-libro-poesia-reunida/
END:VEVENT
BEGIN:VEVENT
DTSTART;TZID=Europe/Madrid:20191025T103000
DTEND;TZID=Europe/Madrid:20191025T103000
DTSTAMP:20260421T144040
CREATED:20191007T045821Z
LAST-MODIFIED:20191007T045821Z
UID:1356-1571999400-1571999400@riojadigital.es
SUMMARY:Conferencia “NUEVAS TENDENCIAS EN ALIMENTACIÓN. NUEVOS ALIMENTOS”
DESCRIPTION:Conferencia “NUEVAS TENDENCIAS EN ALIMENTACIÓN. NUEVOS ALIMENTOS”. \nImpartida por D. Pedro Mario Fernandez San Juan\, jefe de componentes y aditivos del Centro Nacional de Alimentación\, y presentado por D. Diego Fernández López\, vicepresidente del Centro Riojano de Madrid. \nAl finalizar el acto se servirá un vino de Rioja.
URL:https://riojadigital.es/event/conferencia-nuevas-tendencias-en-alimentacion-nuevos-alimentos/
END:VEVENT
BEGIN:VEVENT
DTSTART;TZID=Europe/Madrid:20191025T230000
DTEND;TZID=Europe/Madrid:20191026T150000
DTSTAMP:20260421T144040
CREATED:20190911T041723Z
LAST-MODIFIED:20190911T044810Z
UID:1269-1572044400-1572102000@riojadigital.es
SUMMARY:VIAJE A: BODEGAS LECEA\, LOGROÑO\, SANTO DOMINGO DE LA CALZADA
DESCRIPTION:BODEGAS LECEA \nLOGROÑO \nSANTO DOMINGO DE LA CALZADA \n 
URL:https://riojadigital.es/event/viaje-a-bodegas-lecea-logrono-santo-domingo-de-la-calzada/
END:VEVENT
BEGIN:VEVENT
DTSTART;TZID=Europe/Madrid:20191104T100000
DTEND;TZID=Europe/Madrid:20191104T100000
DTSTAMP:20260421T144040
CREATED:20191104T085616Z
LAST-MODIFIED:20191104T085616Z
UID:1389-1572861600-1572861600@riojadigital.es
SUMMARY:Presentación libro “ENTERRE LOS NOMBRES”
DESCRIPTION:Presentación libro “ENTERRE LOS NOMBRES”\, de Dña. Cristina Vázquez. Editorial Vitruvio.
URL:https://riojadigital.es/event/presentacion-libro-enterre-los-nombres/
END:VEVENT
BEGIN:VEVENT
DTSTART;TZID=Europe/Madrid:20191104T103000
DTEND;TZID=Europe/Madrid:20191104T103000
DTSTAMP:20260421T144040
CREATED:20191104T071305Z
LAST-MODIFIED:20191104T085059Z
UID:1387-1572863400-1572863400@riojadigital.es
SUMMARY:JORNADAS DE LA ENERGÍA.
DESCRIPTION:Conferencia: “EL SISTEMA GASISTA CLAVE EN LA DESCARBONIZACIÓN” Impartida por D.  Fernando López de Silanes Busto\, Director de Proyectos Especiales de ENAGAS\, y presentada por D. José Antonio Rupérez Caño\, presidente del Centro Riojano de Madrid. \nAl finalizar el acto se servirá un vino de Rioja.
URL:https://riojadigital.es/event/jornadas-de-la-energia/
END:VEVENT
BEGIN:VEVENT
DTSTART;TZID=Europe/Madrid:20191106T100000
DTEND;TZID=Europe/Madrid:20191106T100000
DTSTAMP:20260421T144040
CREATED:20191104T090313Z
LAST-MODIFIED:20191104T090313Z
UID:1391-1573034400-1573034400@riojadigital.es
SUMMARY:Recital de poesía “EN TARDES DE PROMETEO”
DESCRIPTION:Recital de poesía “EN TARDES DE PROMETEO”\, espacio literario de la Asociación Prometeo de Poesía. Marina Casado y Elena González\, harán una lectura de su poesía. En Poetas para el Recuerdo: Paca Aguirre en la voz de Simeón Martín Morales.  Coordina: Ángela Reyes
URL:https://riojadigital.es/event/recital-de-poesia-en-tardes-de-prometeo-4/
END:VEVENT
BEGIN:VEVENT
DTSTART;TZID=Europe/Madrid:20191106T103000
DTEND;TZID=Europe/Madrid:20191106T123000
DTSTAMP:20260421T144040
CREATED:20191104T090655Z
LAST-MODIFIED:20191106T030759Z
UID:1393-1573036200-1573043400@riojadigital.es
SUMMARY:XIIª JORNADAS ECONÓMICAS OLEGARIO  FERNÁNDEZ BAÑOS.
DESCRIPTION:XIIª JORNADAS ECONÓMICAS OLEGARIO  \nFERNÁNDEZ BAÑOS. \n1ª conferencia sobre el  “BREXIT” –  \nImpartida por: Dña. Ana Ballesteros. Responsable de comercio exterior Ventana Global – ICEX \, D. Javier Santacruz Cano. Profesor de Economía y Finanzas en el Instituto de Estudios Bursátiles en Madrid\,  y D. José Antonio Rupérez Caño\, presidente del Centro Riojano de Madrid \nAl finalizar el acto se servira un vino de Rioja
URL:https://riojadigital.es/event/xiia-jornadas-economicas-olegario-fernandez-banos/
END:VEVENT
BEGIN:VEVENT
DTSTART;TZID=Europe/Madrid:20191107T103000
DTEND;TZID=Europe/Madrid:20191107T120000
DTSTAMP:20260421T144040
CREATED:20191106T030538Z
LAST-MODIFIED:20191106T030737Z
UID:1395-1573122600-1573128000@riojadigital.es
SUMMARY:XIIª JORNADAS ECONÓMICAS OLEGARIO FERNÁNDEZ BAÑOS.
DESCRIPTION:XIIª JORNADAS ECONÓMICAS OLEGARIO FERNÁNDEZ BAÑOS. \n2ª Conferencia sobre el  “BREXIT” \nEnfoque Económico\, D. Manuel Lamas\, analista del instituto Juan de Mariana y redactor Jefe de Economía en Libertad. \nEnfoque General. D. Carlos Entrena\, presidente del Club Libera Español. \nPreside y modera: D. Diego Fernández López\, vicepresidente del Centro Riojano de Madrid. \nAl finalizar el acto se servirá un vino de Rioja
URL:https://riojadigital.es/event/xiia-jornadas-economicas-olegario-fernandez-banos-2/
END:VEVENT
BEGIN:VEVENT
DTSTART;TZID=Europe/Madrid:20191111T103000
DTEND;TZID=Europe/Madrid:20191111T123000
DTSTAMP:20260421T144040
CREATED:20191106T031126Z
LAST-MODIFIED:20191106T031126Z
UID:1398-1573468200-1573475400@riojadigital.es
SUMMARY:CATA DE VINOS MARINADA
DESCRIPTION:Cata de vino maridada. Organizada e impartida por Dña. Raquel Fernández. \nSe catarán 8 vinos. 3 vinos de Castellón de la Bodega Vicente Flors y 5 vinos de Rioja de la Bodega Basilio Izquierdo. \nLos vinos se maridarán con productos típicos de Castellón y La Rioja. \n  \nPrecios socios: 5 € \nPrecio no socios: 10 € \n 
URL:https://riojadigital.es/event/cata-de-vinos-marinada/
END:VEVENT
BEGIN:VEVENT
DTSTART;TZID=Europe/Madrid:20191112T100000
DTEND;TZID=Europe/Madrid:20191112T120000
DTSTAMP:20260421T144040
CREATED:20191106T031239Z
LAST-MODIFIED:20191106T031239Z
UID:1400-1573552800-1573560000@riojadigital.es
SUMMARY:Recital de Poesía del ciclo LA RIOJA POÉTICA
DESCRIPTION:Recital de Poesía del ciclo LA RIOJA POÉTICA dirigido por Dña. Rosario de la Cueva\, a cargo de varios poetas de la Asociación Artístico-Literaria: “Versos Pintados del café Gijón”\, presidenta: Carmen de Inés \nAl finalizar el acto se servirá un vino de Rioja.
URL:https://riojadigital.es/event/recital-de-poesia-del-ciclo-la-rioja-poetica-6/
END:VEVENT
BEGIN:VEVENT
DTSTART;TZID=Europe/Madrid:20191114T100000
DTEND;TZID=Europe/Madrid:20191114T120000
DTSTAMP:20260421T144040
CREATED:20191106T031340Z
LAST-MODIFIED:20191106T031340Z
UID:1402-1573725600-1573732800@riojadigital.es
SUMMARY:Conferencia: “HISPANIA NOSTRA” Asociación para la defensa del Patrimonio Cultural y Natural.
DESCRIPTION:Conferencia: “HISPANIA NOSTRA” Asociación para la defensa del Patrimonio Cultural y Natural. \nImpartida por Dña. Bárbara Cordero\, Coordinadora General de Hispania Nostra y presentada por D. José Antonio Rupérez Caño\, presidente del Centro Riojano de Madrid.
URL:https://riojadigital.es/event/conferencia-hispania-nostra-asociacion-para-la-defensa-del-patrimonio-cultural-y-natural/
END:VEVENT
BEGIN:VEVENT
DTSTART;TZID=Europe/Madrid:20191114T103000
DTEND;TZID=Europe/Madrid:20191114T123000
DTSTAMP:20260421T144040
CREATED:20191106T031441Z
LAST-MODIFIED:20191106T031441Z
UID:1404-1573727400-1573734600@riojadigital.es
SUMMARY:Conferencia: “EUROPA: 30 AÑOS DESPUÉS DE LA CAIDA DEL MURO”
DESCRIPTION:Conferencia: “EUROPA: 30 AÑOS DESPUÉS DE LA CAIDA DEL MURO”\, impartida por D. Herman Tertsch\, y presentada por D. Vicente Boceta\, del Centro Diego de Covarrubias.
URL:https://riojadigital.es/event/conferencia-europa-30-anos-despues-de-la-caida-del-muro/
END:VEVENT
BEGIN:VEVENT
DTSTART;TZID=Europe/Madrid:20191115T100000
DTEND;TZID=Europe/Madrid:20191115T120000
DTSTAMP:20260421T144040
CREATED:20191106T031612Z
LAST-MODIFIED:20191106T031612Z
UID:1406-1573812000-1573819200@riojadigital.es
SUMMARY:FIESTAS DE SAN MILLAN 2019
DESCRIPTION:Salón Gonzalo de Berceo. Concierto de Cámara FUNDACIÓN GARCÍA FAJER. \n  \n19:45 horas. Salón La Lengua. Pregón de las Fiestas de San Millán a cargo de D. Santiago Madrigal Terrazas. \nAl finalizar el acto se servirá un vino de Rioja.
URL:https://riojadigital.es/event/fiestas-de-san-millan-2019/
END:VEVENT
BEGIN:VEVENT
DTSTART;TZID=Europe/Madrid:20191116T033000
DTEND;TZID=Europe/Madrid:20191116T063000
DTSTAMP:20260421T144040
CREATED:20191106T031758Z
LAST-MODIFIED:20191106T033419Z
UID:1408-1573875000-1573885800@riojadigital.es
SUMMARY:FIESTAS DE SAN MILLÁN
DESCRIPTION:12:30 horas. Misa en Conmemoración de San Millán de la Cogolla en la Iglesia Parroquial del Santísimo Cristo de la Salud\, calle Ayala\, 12. Madrid\, impartida por Rvdo. P. D. Santiago Madrigal Terrazas. \nDurante la celebración de la Misa intervendrá el coro “ZENOBIA”. \n  \n14:30 horas. Palabras de bienvenida de D. JOSÉ ANTONIO RUPÉREZ CAÑO\, presidente del Centro Riojano de Madrid. A continuación\, se iniciará el acto de entrega de los premios a cargo de D. Diego Fernández López\, miembro de la Junta de Gobierno del Centro Riojano.
URL:https://riojadigital.es/event/fiestas-de-san-millan/
END:VEVENT
BEGIN:VEVENT
DTSTART;TZID=Europe/Madrid:20191119T103000
DTEND;TZID=Europe/Madrid:20191119T123000
DTSTAMP:20260421T144040
CREATED:20191106T031902Z
LAST-MODIFIED:20191106T031902Z
UID:1410-1574159400-1574166600@riojadigital.es
SUMMARY:Conferencia: “EL SECTOR DEL PETRÓLEO ANTE UN ENTORNO EN TRANSICIÓN”
DESCRIPTION:Conferencia: “EL SECTOR DEL PETRÓLEO ANTE UN ENTORNO EN TRANSICIÓN” Impartida por D.  José Luis López de Silanes Busto\, presidente de la compañía Logística de Hidrocarburos CLH\, S.A. y presidente del Consejo Social de la Universidad de La Rioja\, y presentada por D. José Antonio Rupérez Caño\, presidente del Centro Riojano de Madrid. \nAl finalizar el acto se servirá un vino de Rioja.
URL:https://riojadigital.es/event/conferencia-el-sector-del-petroleo-ante-un-entorno-en-transicion/
END:VEVENT
END:VCALENDAR