BEGIN:VCALENDAR
VERSION:2.0
PRODID:-//Rioja digital - ECPv6.1.3//NONSGML v1.0//EN
CALSCALE:GREGORIAN
METHOD:PUBLISH
X-ORIGINAL-URL:https://riojadigital.es
X-WR-CALDESC:Eventos para Rioja digital
REFRESH-INTERVAL;VALUE=DURATION:PT1H
X-Robots-Tag:noindex
X-PUBLISHED-TTL:PT1H
BEGIN:VTIMEZONE
TZID:Europe/Madrid
BEGIN:DAYLIGHT
TZOFFSETFROM:+0100
TZOFFSETTO:+0200
TZNAME:CEST
DTSTART:20190331T010000
END:DAYLIGHT
BEGIN:STANDARD
TZOFFSETFROM:+0200
TZOFFSETTO:+0100
TZNAME:CET
DTSTART:20191027T010000
END:STANDARD
END:VTIMEZONE
BEGIN:VEVENT
DTSTART;TZID=Europe/Madrid:20190401T103000
DTEND;TZID=Europe/Madrid:20190401T123000
DTSTAMP:20260425T173008
CREATED:20190402T034659Z
LAST-MODIFIED:20190402T034725Z
UID:282-1554114600-1554121800@riojadigital.es
SUMMARY:Concierto acústico del grupo MONSIEUR DOUMANI y presentación de libro MADRID 1939
DESCRIPTION:Concierto acústico del grupo MONSIEUR DOUMANI\, de la embajada de Chipre. \nAl finalizar el acto se servirá un vino de Chipre y un vino de Rioja \nImprescindible apuntarse en secretaria. \n  \nPresentación del libro: «MADRID 1939» de D. Pablo Mendez y D. Eugenio Rivera. Editorial Vitruvio.
URL:https://riojadigital.es/event/concierto-acustico-del-grupo-monsieur-doumani-y-presentacion-de-libro-madrid-1939/
END:VEVENT
BEGIN:VEVENT
DTSTART;TZID=Europe/Madrid:20190402T100000
DTEND;TZID=Europe/Madrid:20190402T123000
DTSTAMP:20260425T173008
CREATED:20190402T035147Z
LAST-MODIFIED:20190402T035147Z
UID:283-1554199200-1554208200@riojadigital.es
SUMMARY:Ciclo de la FUNDACIÓN DE CASAS HISTÓRICAS Y SINGULARES.
DESCRIPTION:Ciclo de la FUNDACIÓN DE CASAS HISTÓRICAS Y SINGULARES. \nConferencia: «PALACIO DE PORTOCARREÑO: UNA AVENTURA VIABLE«\, impartida por D. Enrique Moreno de la Cova y Maestre y Dña. Cristina Ybarra y Sainz de la Maza\, propietarios del Palacio Portocarreño. \nAl finalizar el acto se servirá un vino de Rioja.
URL:https://riojadigital.es/event/ciclo-de-la-fundacion-de-casas-historicas-y-singulares-3/
END:VEVENT
BEGIN:VEVENT
DTSTART;TZID=Europe/Madrid:20190403T100000
DTEND;TZID=Europe/Madrid:20190403T120000
DTSTAMP:20260425T173008
CREATED:20190402T035620Z
LAST-MODIFIED:20190402T035620Z
UID:284-1554285600-1554292800@riojadigital.es
SUMMARY:Recital de poesía "EN TARDES DE PROMETEO"
DESCRIPTION:Recital de poesía «EN TARDES DE PROMETEO«\, espacio literario de la asociación Prometeo de Poesía. Coordina: Ángela Reyes.
URL:https://riojadigital.es/event/recital-de-poesia-en-tardes-de-prometeo-2/
END:VEVENT
BEGIN:VEVENT
DTSTART;TZID=Europe/Madrid:20190403T103000
DTEND;TZID=Europe/Madrid:20190403T120000
DTSTAMP:20260425T173008
CREATED:20190402T035845Z
LAST-MODIFIED:20190402T035845Z
UID:285-1554287400-1554292800@riojadigital.es
SUMMARY:Presentación del libro: "MEMORIAS DE SILENCIO"
DESCRIPTION:Presentación del libro: «MEMORIAS DE SILENCIO» de D. Victor Urrutia. Editorial Vitruvio.
URL:https://riojadigital.es/event/presentacion-del-libro-memorias-de-silencio/
END:VEVENT
BEGIN:VEVENT
DTSTART;TZID=Europe/Madrid:20190404T100000
DTEND;TZID=Europe/Madrid:20190404T123000
DTSTAMP:20260425T173008
CREATED:20190402T040242Z
LAST-MODIFIED:20190402T040242Z
UID:286-1554372000-1554381000@riojadigital.es
SUMMARY:Seminario de Historia LOS AUSTRIAS MENORES Y FELIPE V
DESCRIPTION:Seminario de Historia LOS AUSTRIAS MENORES Y FELIPE V. \nConferencia: 1665-1700: Carlos II «EL HECHIZADO»\, impartida por D. Leonardo Bermejo Sáez\, promotor y autor del ciclo. \nAl finalizar el acto se servirá un vino de Rioja.
URL:https://riojadigital.es/event/seminario-de-historia-los-austrias-menores-y-felipe-v-3/
END:VEVENT
BEGIN:VEVENT
DTSTART;TZID=Europe/Madrid:20190405T103000
DTEND;TZID=Europe/Madrid:20190405T123000
DTSTAMP:20260425T173008
CREATED:20190402T040821Z
LAST-MODIFIED:20190402T040821Z
UID:287-1554460200-1554467400@riojadigital.es
SUMMARY:Presentación del libro "LEONOR\, MEMORIA DE LA NIÑA-ESPOSA"
DESCRIPTION:Presentación del libro «LEONOR\, MEMORIA DE LA NIÑA-ESPOSA«\, por su autor D. Miguel Ángel Baamonde. Intervienen: D. Manuel Álvarez Machado\, D. Jesús García\, D. Andrés Martínez\, D. Javier Maroto y Dña. Ana María Javier Pérez Ayala. \nAl finalizar el acto se servirá un vino de Rioja.
URL:https://riojadigital.es/event/presentacion-del-libro-leonor-memoria-de-la-nina-esposa/
END:VEVENT
BEGIN:VEVENT
DTSTART;TZID=Europe/Madrid:20190405T103000
DTEND;TZID=Europe/Madrid:20190405T123000
DTSTAMP:20260425T173008
CREATED:20190402T041051Z
LAST-MODIFIED:20190402T041051Z
UID:288-1554460200-1554467400@riojadigital.es
SUMMARY:Explosiona de Pintura "EL BOSQUE DE LAS FIGURACIONES"
DESCRIPTION:Exposición de Pintura «EL BOSQUE DE LAS FIGURACIONES» de D. Adolfo Falces. \nLa inauguración permanecerá hasta el día 30 de abril.
URL:https://riojadigital.es/event/explosiona-de-pintura-el-bosque-de-las-figuraciones/
END:VEVENT
BEGIN:VEVENT
DTSTART;TZID=Europe/Madrid:20190409T100000
DTEND;TZID=Europe/Madrid:20190409T123000
DTSTAMP:20260425T173008
CREATED:20190402T042245Z
LAST-MODIFIED:20190402T042245Z
UID:290-1554804000-1554813000@riojadigital.es
SUMMARY:Recital de Poesía del ciclo LA RIOJA POÉTICA
DESCRIPTION:Recital de Poesía del ciclo LA RIOJA POÉTICA dirigido por Dña. Rosario de la Cueva. Recital a cargo de los poetas Dña. Joselynn Almeida y D. José León Cano. \nAl finalizar el acto se servirá un vino de Rioja.
URL:https://riojadigital.es/event/recital-de-poesia-del-ciclo-la-rioja-poetica-2/
END:VEVENT
BEGIN:VEVENT
DTSTART;TZID=Europe/Madrid:20190409T103000
DTEND;TZID=Europe/Madrid:20190409T123000
DTSTAMP:20260425T173008
CREATED:20190402T041241Z
LAST-MODIFIED:20190402T041241Z
UID:289-1554805800-1554813000@riojadigital.es
SUMMARY:Merienda Riojana
DESCRIPTION:Merienda Riojana con ZURRACAPOTE.
URL:https://riojadigital.es/event/merienda-riojana/
END:VEVENT
BEGIN:VEVENT
DTSTART;TZID=Europe/Madrid:20190410T033000
DTEND;TZID=Europe/Madrid:20190410T050000
DTSTAMP:20260425T173008
CREATED:20190402T042733Z
LAST-MODIFIED:20190402T042733Z
UID:291-1554867000-1554872400@riojadigital.es
SUMMARY:Presentación de la Feria "FUNGITUR 2019"
DESCRIPTION:Presentación de la Feria «FUNGITUR 2019«\, y el proyecto FUNGITURISMO por el Excmo. Sr. D Oscar León García\, Alcalde de Pradejón.
URL:https://riojadigital.es/event/presentacion-de-la-feria-fungitur-2019/
END:VEVENT
BEGIN:VEVENT
DTSTART;TZID=Europe/Madrid:20190410T100000
DTEND;TZID=Europe/Madrid:20190410T123000
DTSTAMP:20260425T173008
CREATED:20190402T043127Z
LAST-MODIFIED:20190402T043127Z
UID:292-1554890400-1554899400@riojadigital.es
SUMMARY:Ciclo: "DIÁLOGOS FILOSÓFICOS".
DESCRIPTION:Ciclo: «DIÁLOGOS FILOSÓFICOS«. \nConferencia: «LA EDUCACIÓN EN LA ESPAÑA DEL PRESIDENTE«\, en torno a la educación ¿para qué? de Gustavo Bueno en 2008. \nPresentada y modera D. José Sánchez Tortosa. 
URL:https://riojadigital.es/event/ciclo-dialogos-filosoficos/
END:VEVENT
BEGIN:VEVENT
DTSTART;TZID=Europe/Madrid:20190411T103000
DTEND;TZID=Europe/Madrid:20190411T123000
DTSTAMP:20260425T173008
CREATED:20190403T072929Z
LAST-MODIFIED:20190403T072929Z
UID:328-1554978600-1554985800@riojadigital.es
SUMMARY:Ciclo: DOS EFEMÉRIDADES DEL V CENTENARIO.
DESCRIPTION:Ciclo: DOS EFEMÉRIDADES DEL V CENTENARIO \n2ª Efeméride: V CENTENARIO DE LA PRIMERA CIRCUNNAVEGACIÓN; MAGALLANES-ELCANO. \n1ª Conferencia: «EL VIAJE DE LA PRIMERA CIRCUNNAVEGACIÓN: INSOLITA GESTA NAUTICA«. \nImpartida por D. José Mª González Ochoa\, historiador\, periodista\, máster en Relaciones Internaciones y director de programas en la fundación SM. \nAl finalizar ela cto se servirá una copa de vino de Rioja.
URL:https://riojadigital.es/event/ciclo-dos-efemeridades-del-v-centenario/
END:VEVENT
BEGIN:VEVENT
DTSTART;TZID=Europe/Madrid:20190412T100000
DTEND;TZID=Europe/Madrid:20190412T123000
DTSTAMP:20260425T173008
CREATED:20190403T073226Z
LAST-MODIFIED:20190403T073226Z
UID:336-1555063200-1555072200@riojadigital.es
SUMMARY:Conferencia: "LOS CUADROS DEL MUSEO DEL PRADO QUE QUEDARON EN CUBA"
DESCRIPTION:Conferencia: «LOS CUADROS DEL MUSEO DEL PRADO QUE QUEDARON EN CUBA» impartida por D. Angel Manuel Ballesteros Garcia. \nAl finalizar el acto se servirá un vino de Rioja.
URL:https://riojadigital.es/event/conferencia-los-cuadros-del-museo-del-prado-que-quedaron-en-cuba/
END:VEVENT
BEGIN:VEVENT
DTSTART;TZID=Europe/Madrid:20190415T100000
DTEND;TZID=Europe/Madrid:20190415T123000
DTSTAMP:20260425T173008
CREATED:20190403T073931Z
LAST-MODIFIED:20190403T073931Z
UID:337-1555322400-1555331400@riojadigital.es
SUMMARY:Conferencia "TOLERACION RELIGIOSA"
DESCRIPTION:Conferencia «TOLERACION RELIGIOSA»\, del FORO DE LAS NACIONES UNIDAS\, impartida por M.I. Señor D Avelino Revilla Cuñado\, Vicario General de la archidiócesis de Madrid. Preside: D. José Antonio Rupérez Caño\, presidente del Centro Riojano de Madrid. Intervienen: Ilmo. sr. D. Alfonso Ramonet García\, Protocolo del Arzobispado de Madrid y D. Joaquín Antuña\, Presidente y fundador de Paz y Cooperación. \nAl finalizar el acto se servirá un vino de Rioja.
URL:https://riojadigital.es/event/conferencia-toleracion-religiosa/
END:VEVENT
BEGIN:VEVENT
DTSTART;TZID=Europe/Madrid:20190416T103000
DTEND;TZID=Europe/Madrid:20190416T123000
DTSTAMP:20260425T173008
CREATED:20190403T074332Z
LAST-MODIFIED:20190403T074332Z
UID:338-1555410600-1555417800@riojadigital.es
SUMMARY:Presentación del libro "SIEMPRE ESTUVIERON ELLAS"
DESCRIPTION:Presentación del libro «SIEMPRE ESTUVIERON ELLAS«\, Galería histórica de hispanas memorables. Por su autor D. Javier Santamarta del Pozo y presentado por D. Iván Velez.
URL:https://riojadigital.es/event/presentacion-del-libro-siempre-estuvieron-ellas/
END:VEVENT
BEGIN:VEVENT
DTSTART;TZID=Europe/Madrid:20190422T103000
DTEND;TZID=Europe/Madrid:20190422T123000
DTSTAMP:20260425T173008
CREATED:20190403T075753Z
LAST-MODIFIED:20190403T075753Z
UID:339-1555929000-1555936200@riojadigital.es
SUMMARY:Presentación libro de Editorial Vitrubio.
DESCRIPTION:Presentación libro de Editorial Vitrubio.
URL:https://riojadigital.es/event/presentacion-libro-de-editorial-vitrubio/
END:VEVENT
BEGIN:VEVENT
DTSTART;TZID=Europe/Madrid:20190423T100000
DTEND;TZID=Europe/Madrid:20190423T123000
DTSTAMP:20260425T173008
CREATED:20190403T081434Z
LAST-MODIFIED:20190403T081434Z
UID:340-1556013600-1556022600@riojadigital.es
SUMMARY:Lectura del Poema de Gonzalo de Berceo "VIDA DE SANTO DOMINGO DE SILOS"
DESCRIPTION:Lectura del Poema de Gonzalo de Berceo «VIDA DE SANTO DOMINGO DE SILOS» \nLos interesados en leer el poema\, deberán apuntarse en secretaria. \nAl finalizar el acto se servirá un vino de Rioja.
URL:https://riojadigital.es/event/lectura-del-poema-de-gonzalo-de-berceo-vida-de-santo-domingo-de-silos/
END:VEVENT
BEGIN:VEVENT
DTSTART;TZID=Europe/Madrid:20190424T100000
DTEND;TZID=Europe/Madrid:20190424T123000
DTSTAMP:20260425T173008
CREATED:20190403T081930Z
LAST-MODIFIED:20190403T081930Z
UID:341-1556100000-1556109000@riojadigital.es
SUMMARY:Presentación del libro "JUAN MORA. El toreo en verso"
DESCRIPTION:Presentación del libro «JUAN MORA. El toreo en verso»\, de D. Luciano Nuevo Sanchez. Moderador: D. Vidal Pérez Herrero\, Presentadores: Gonzalo L. «Bienvenida»\, Rapsodas: Vicente Gamo y Basilio Rodríguez\, Guitarristas: Luis Guerra. \nAl finalizar el acto se servirá un vino de Rioja.
URL:https://riojadigital.es/event/presentacion-del-libro-juan-mora-el-toreo-en-verso/
END:VEVENT
BEGIN:VEVENT
DTSTART;TZID=Europe/Madrid:20190425T024500
DTEND;TZID=Europe/Madrid:20190425T050000
DTSTAMP:20260425T173008
CREATED:20190403T082819Z
LAST-MODIFIED:20190403T082819Z
UID:342-1556160300-1556168400@riojadigital.es
SUMMARY:VISITA AL MUSEO DEL TRAJE
DESCRIPTION:VISITA AL MUSEO DEL TRAJE. El Museo del Traje tiene como objetivo mostrarnos la evolución de la indumentaria\, desde el siglo XVI hasta nuestros días. \nDirección:  Juan de Herrera\, 2. Madrid\, 28040 \nMetro: Moncloa (Líneas 3 y 6)\, Ciudad Universitaria (Linea 6)\nAutobus: Líneas 46\, 82\, 83\, 132\, 133\, G. \nAl finalizar la visita tomares un aperitivo por cortesía del Centro Riojano de Madrid. \nImprescindible apuntarse en secretaría.
URL:https://riojadigital.es/event/visita-al-museo-del-traje/
END:VEVENT
BEGIN:VEVENT
DTSTART;TZID=Europe/Madrid:20190425T100000
DTEND;TZID=Europe/Madrid:20190425T123000
DTSTAMP:20260425T173008
CREATED:20190403T082956Z
LAST-MODIFIED:20190403T082956Z
UID:343-1556186400-1556195400@riojadigital.es
SUMMARY:Seminario de Historia LOS AUSTRIAS MENORES Y FELIPE V.
DESCRIPTION:Seminario de Historia LOS AUSTRIAS MENORES Y FELIPE V. \nConferencia: 1700-1716: FELIPE V Y LA GUERRA DE SUCESIÓN (1ª parte)\, impartida por D. Leonardo Bermejo Sáez\, promotor y autor del ciclo. \nAl finalizar el acto se servirá un vino de Rioja
URL:https://riojadigital.es/event/seminario-de-historia-los-austrias-menores-y-felipe-v-4/
END:VEVENT
BEGIN:VEVENT
DTSTART;TZID=Europe/Madrid:20190430T103000
DTEND;TZID=Europe/Madrid:20190430T123000
DTSTAMP:20260425T173008
CREATED:20190403T083148Z
LAST-MODIFIED:20190403T083148Z
UID:345-1556620200-1556627400@riojadigital.es
SUMMARY:Conferencia: "LA VISIÓN RUSA SOBRE  EL CONTEXTO GEOPOLÍTICO ACTUAL. RELACIONES ENTRE RUSIA Y ESPAÑA"
DESCRIPTION:Conferencia: “LA VISIÓN RUSA SOBRE EL CONTEXTO GEOPOLÍTICO ACTUAL. RELACIONES ENTRE RUSIA Y ESPAÑA”\, impartida por Dña. Nadia Dementieva\, segunda secretaria Embajada de la Federación de Rusia. Preside: D. José Antonio Rupérez Caño\, presidente del Centro Riojano de Madrid. Interviene: D. Joaquín Antuña\, presidente y fundador de Paz y Cooperación. \nAl finalizar el acto ser servirá un vino de Rioja.
URL:https://riojadigital.es/event/conferencia-la-vision-rusa-sobre-el-contexto-geopolitico-actual-relaciones-entre-rusia-y-espana/
END:VEVENT
BEGIN:VEVENT
DTSTART;TZID=Europe/Madrid:20190506T103000
DTEND;TZID=Europe/Madrid:20190506T120000
DTSTAMP:20260425T173008
CREATED:20190429T041355Z
LAST-MODIFIED:20190429T041355Z
UID:371-1557138600-1557144000@riojadigital.es
SUMMARY:Proyección de cortometraje "MATRYOAHKA"
DESCRIPTION:Proyección del cortometraje “ MATRYOSHKA”\, presentado por María Ivanova y Oksana Hirhorash \nAl finalizar el acto se servirá un vino de Rioja.
URL:https://riojadigital.es/event/proyeccion-de-cortometraje-matryoahka/
END:VEVENT
BEGIN:VEVENT
DTSTART;TZID=Europe/Madrid:20190507T103000
DTEND;TZID=Europe/Madrid:20190507T120000
DTSTAMP:20260425T173008
CREATED:20190429T041611Z
LAST-MODIFIED:20190429T041611Z
UID:372-1557225000-1557230400@riojadigital.es
SUMMARY:Ciclo: DOS EFEMÉRIDADES DE V CENTENARIO
DESCRIPTION:Ciclo: DOS EFEMÉRIDES DEL V CENTENARIO \n2ª Efeméride: V CENTENARIO DE LA PRIMERA CIRCUNNAVEGACIÓN; MAGALLANES-ELCANO. \nConferencia: “EL INICIO DE LA PRIMERA GLOBALIZACIÓN”. \nImpartida por D. José Mª González Ochoa\, historiador\, periodista\, master en Relaciones Internacionales y director de programas en la Fundación SM. \nAl finalizar el acto se servirá una copa de vino de Rioja
URL:https://riojadigital.es/event/ciclo-dos-efemeridades-de-v-centenario/
END:VEVENT
BEGIN:VEVENT
DTSTART;TZID=Europe/Madrid:20190508T100000
DTEND;TZID=Europe/Madrid:20190508T120000
DTSTAMP:20260425T173008
CREATED:20190429T041836Z
LAST-MODIFIED:20190429T041836Z
UID:374-1557309600-1557316800@riojadigital.es
SUMMARY:Ciclo: "DIÁLOGOS FILOSÓFICOS"
DESCRIPTION:Ciclo: “DIÁLOGOS FILOSÓFICOS”. \nConferencia: “EN TORNO AL ENSAYO DE UNA DEFINICIÓN FILOSÓFICA DE LA IDEA DE DEPORTE DE GUSTAVO BUENO”. \nPresenta y modera D. Ángel Campos.
URL:https://riojadigital.es/event/ciclo-dialogos-filosoficos-2/
END:VEVENT
BEGIN:VEVENT
DTSTART;TZID=Europe/Madrid:20190508T103000
DTEND;TZID=Europe/Madrid:20190508T120000
DTSTAMP:20260425T173008
CREATED:20190429T041735Z
LAST-MODIFIED:20190429T041735Z
UID:373-1557311400-1557316800@riojadigital.es
SUMMARY:Presentación del cartel de la XVIIª EDICIÓN DEL TROFEO VESTIDO DE LUCES RIOJA Y ORO
DESCRIPTION:Presentación del cartel de la XVIIª EDICIÓN del TROFEO VESTIDO DE LUCES RIOJA Y ORO. \nConferencia: “EL CARTEL TAURINO COMO DOCUMENTO HISTÓRICO”\, impartida porD. Angel Sonseca\, aficionado y coleccionista taurino. Preside el acto D. José Antonio Rupérez Caño\, presidente del Centro Riojano de Madrid. Presenta D. Vidal Pérez Herrero \nAl finalizar el acto se servirá un vino de Rioja.
URL:https://riojadigital.es/event/presentacion-del-cartel-de-la-xviia-edicion-del-trofeo-vestido-de-luces-rioja-y-oro/
END:VEVENT
BEGIN:VEVENT
DTSTART;TZID=Europe/Madrid:20190509T100000
DTEND;TZID=Europe/Madrid:20190509T120000
DTSTAMP:20260425T173008
CREATED:20190429T041951Z
LAST-MODIFIED:20190429T041951Z
UID:375-1557396000-1557403200@riojadigital.es
SUMMARY:Seminario de Historia LOS AUSTRIAS MENORES Y FELIPE V.
DESCRIPTION:Seminario de Historia LOS AUSTRIAS MENORES Y FELIPE V. \nConferencia: 1700-1716: “FELIPE V Y LA GUERRA DE SUCESIÓN”\, impartida por D. Leonardo Bermejo Sáez\, promotor y autor del ciclo. \nAl finalizar el acto se servirá un vino de Rioja.
URL:https://riojadigital.es/event/seminario-de-historia-los-austrias-menores-y-felipe-v-5/
END:VEVENT
BEGIN:VEVENT
DTSTART;TZID=Europe/Madrid:20190509T100000
DTEND;TZID=Europe/Madrid:20190509T120000
DTSTAMP:20260425T173008
CREATED:20190429T042052Z
LAST-MODIFIED:20190429T042052Z
UID:376-1557396000-1557403200@riojadigital.es
SUMMARY:Recital de poesía "EN TARDES DE PROMETEO"
DESCRIPTION:Recital de poesía “EN TARDES DE PROMETEO”\, espacio literario de la Asociación Prometeo de Poesía. Coordina: Ángela Reyes.
URL:https://riojadigital.es/event/recital-de-poesia-en-tardes-de-prometeo-3/
END:VEVENT
BEGIN:VEVENT
DTSTART;TZID=Europe/Madrid:20190510T103000
DTEND;TZID=Europe/Madrid:20190510T120000
DTSTAMP:20260425T173008
CREATED:20190429T042205Z
LAST-MODIFIED:20190429T042205Z
UID:377-1557484200-1557489600@riojadigital.es
SUMMARY:Presentación del libro: "EL MONOPOLIO DE LOS ÁRBOLES"
DESCRIPTION:Presentación del libro: “EL MONOPOLIO DE LOS ÁRBOLES” de Dña. Rosa Mª Estremeras. Editorial Vitruvio. \nAl finalizar el acto se servirá un vino de Rioja.
URL:https://riojadigital.es/event/presentacion-del-libro-el-monopolio-de-los-arboles/
END:VEVENT
BEGIN:VEVENT
DTSTART;TZID=Europe/Madrid:20190513T100000
DTEND;TZID=Europe/Madrid:20190513T120000
DTSTAMP:20260425T173008
CREATED:20190429T042304Z
LAST-MODIFIED:20190429T042304Z
UID:378-1557741600-1557748800@riojadigital.es
SUMMARY:Presentación del libro: "LA TRADICIÓN DE LA LIBERTAD"
DESCRIPTION:Presentación del libro: “LA TRADICIÓN DE LA LIBERTAD” de D. Dalmacio Negro. \nAl finalizar el acto se servirá un vino de Rioja.
URL:https://riojadigital.es/event/presentacion-del-libro-la-tradicion-de-la-libertad/
END:VEVENT
BEGIN:VEVENT
DTSTART;TZID=Europe/Madrid:20190514T100000
DTEND;TZID=Europe/Madrid:20190514T120000
DTSTAMP:20260425T173008
CREATED:20190429T042406Z
LAST-MODIFIED:20190429T042406Z
UID:379-1557828000-1557835200@riojadigital.es
SUMMARY:Recital de Poesía del ciclo LA RIOJA POÉTICA
DESCRIPTION:Recital de Poesía del ciclo LA RIOJA POÉTICA dirigido \npor Dña. Rosario de la Cueva. Recital a cargo de los \npoetas D. Luis Gutierrez Valentín y D. Juan Calderón Matador. \nAl finalizar el acto se servirá un vino de Rioja.
URL:https://riojadigital.es/event/recital-de-poesia-del-ciclo-la-rioja-poetica-3/
END:VEVENT
END:VCALENDAR