BEGIN:VCALENDAR
VERSION:2.0
PRODID:-//Rioja digital - ECPv6.1.3//NONSGML v1.0//EN
CALSCALE:GREGORIAN
METHOD:PUBLISH
X-ORIGINAL-URL:https://riojadigital.es
X-WR-CALDESC:Eventos para Rioja digital
REFRESH-INTERVAL;VALUE=DURATION:PT1H
X-Robots-Tag:noindex
X-PUBLISHED-TTL:PT1H
BEGIN:VTIMEZONE
TZID:Europe/Madrid
BEGIN:DAYLIGHT
TZOFFSETFROM:+0100
TZOFFSETTO:+0200
TZNAME:CEST
DTSTART:20190331T010000
END:DAYLIGHT
BEGIN:STANDARD
TZOFFSETFROM:+0200
TZOFFSETTO:+0100
TZNAME:CET
DTSTART:20191027T010000
END:STANDARD
END:VTIMEZONE
BEGIN:VEVENT
DTSTART;TZID=Europe/Madrid:20190603T050000
DTEND;TZID=Europe/Madrid:20190603T120000
DTSTAMP:20260423T140831
CREATED:20190603T075901Z
LAST-MODIFIED:20190603T075901Z
UID:1036-1559538000-1559563200@riojadigital.es
SUMMARY:Entrega de los galardones del Centro Riojano de Madrid
DESCRIPTION:Entrega de los galardones del Centro Riojano de Madrid.
URL:https://riojadigital.es/event/entrega-de-los-galardones-del-centro-riojano-de-madrid/
END:VEVENT
BEGIN:VEVENT
DTSTART;TZID=Europe/Madrid:20190603T103000
DTEND;TZID=Europe/Madrid:20190603T120000
DTSTAMP:20260423T140831
CREATED:20190603T073035Z
LAST-MODIFIED:20190603T073035Z
UID:1023-1559557800-1559563200@riojadigital.es
SUMMARY:Conferencia: “MIGUEL HERNÁNDEZ\, Y SUS TRES HERIDAS”
DESCRIPTION:Conferencia: “MIGUEL HERNÁNDEZ\, Y SUS TRES HERIDAS”\, impartida por D. Luis Gutiérrez Valentín y presentado por D. Vidal Pérez Herrero. Rapsodas: Dña. Rosario de la Cueva\, D. Vicente Gamo y D. Basilio Rodríguez.
URL:https://riojadigital.es/event/conferencia-miguel-hernandez-y-sus-tres-heridas/
END:VEVENT
BEGIN:VEVENT
DTSTART;TZID=Europe/Madrid:20190604T103000
DTEND;TZID=Europe/Madrid:20190604T120000
DTSTAMP:20260423T140831
CREATED:20190603T073533Z
LAST-MODIFIED:20190603T073533Z
UID:1024-1559644200-1559649600@riojadigital.es
SUMMARY:Presentación del libro” AGUA VA” de D. José Mª Prieto. Editorial Vitruvio.
DESCRIPTION:Presentación del libro” AGUA VA” de D. José Mª Prieto. Editorial Vitruvio.
URL:https://riojadigital.es/event/presentacion-del-libro-agua-va-de-d-jose-ma-prieto-editorial-vitruvio/
END:VEVENT
BEGIN:VEVENT
DTSTART;TZID=Europe/Madrid:20190605T103000
DTEND;TZID=Europe/Madrid:20190605T120000
DTSTAMP:20260423T140831
CREATED:20190603T073942Z
LAST-MODIFIED:20190603T073942Z
UID:1027-1559730600-1559736000@riojadigital.es
SUMMARY:Conferencia: “EL LENGUAJE DE LAS PIRÁMIDES”
DESCRIPTION:Conferencia: “EL LENGUAJE DE LAS PIRÁMIDES”
URL:https://riojadigital.es/event/conferencia-el-lenguaje-de-las-piramides-2/
END:VEVENT
BEGIN:VEVENT
DTSTART;TZID=Europe/Madrid:20190606T103000
DTEND;TZID=Europe/Madrid:20190606T120000
DTSTAMP:20260423T140831
CREATED:20190603T074159Z
LAST-MODIFIED:20190603T074159Z
UID:1028-1559817000-1559822400@riojadigital.es
SUMMARY:Presentación del curso de inicio a la escritura creativa “RENGLONES LITERARIOS”
DESCRIPTION:Presentación del curso de inicio a la escritura creativa “RENGLONES LITERARIOS”.
URL:https://riojadigital.es/event/presentacion-del-curso-de-inicio-a-la-escritura-creativa-renglones-literarios/
END:VEVENT
BEGIN:VEVENT
DTSTART;TZID=Europe/Madrid:20190607T100000
DTEND;TZID=Europe/Madrid:20190607T120000
DTSTAMP:20260423T140831
CREATED:20190603T074303Z
LAST-MODIFIED:20190603T074303Z
UID:1029-1559901600-1559908800@riojadigital.es
SUMMARY:Conferencia “LOS ECOSISTEMAS DEL VIÑEDO Y EL CAMBIO CLIMÁTICO EN LA RIOJA”
DESCRIPTION:Conferencia “LOS ECOSISTEMAS DEL VIÑEDO Y EL CAMBIO CLIMÁTICO EN LA RIOJA”
URL:https://riojadigital.es/event/conferencia-los-ecosistemas-del-vinedo-y-el-cambio-climatico-en-la-rioja/
END:VEVENT
BEGIN:VEVENT
DTSTART;TZID=Europe/Madrid:20190611T100000
DTEND;TZID=Europe/Madrid:20190611T120000
DTSTAMP:20260423T140831
CREATED:20190603T081345Z
LAST-MODIFIED:20190603T081345Z
UID:1043-1560247200-1560254400@riojadigital.es
SUMMARY:Recital de Poesía del ciclo LA RIOJA POÉTICA
DESCRIPTION:Recital de Poesía del ciclo LA RIOJA POÉTICA .
URL:https://riojadigital.es/event/recital-de-poesia-del-ciclo-la-rioja-poetica-4/
END:VEVENT
BEGIN:VEVENT
DTSTART;TZID=Europe/Madrid:20190612T103000
DTEND;TZID=Europe/Madrid:20190612T120000
DTSTAMP:20260423T140831
CREATED:20190603T074711Z
LAST-MODIFIED:20190603T074805Z
UID:1031-1560335400-1560340800@riojadigital.es
SUMMARY:Presentación del libro: “SIN TIEMPO DE MAÑANA”
DESCRIPTION:Presentación del libro: “SIN TIEMPO DE MAÑANA”
URL:https://riojadigital.es/event/presentacion-del-libro-sin-tiempo-de-manana/
END:VEVENT
BEGIN:VEVENT
DTSTART;TZID=Europe/Madrid:20190613T100000
DTEND;TZID=Europe/Madrid:20190613T120000
DTSTAMP:20260423T140831
CREATED:20190603T074947Z
LAST-MODIFIED:20190603T074947Z
UID:1032-1560420000-1560427200@riojadigital.es
SUMMARY:Cata de vino “RUTA DEL VINO RIOJA ORIENTAL”
DESCRIPTION:Cata de vino “RUTA DEL VINO RIOJA ORIENTAL”.
URL:https://riojadigital.es/event/cata-de-vino-ruta-del-vino-rioja-oriental/
END:VEVENT
BEGIN:VEVENT
DTSTART;TZID=Europe/Madrid:20190614T100000
DTEND;TZID=Europe/Madrid:20190614T120000
DTSTAMP:20260423T140831
CREATED:20190603T075302Z
LAST-MODIFIED:20190603T075302Z
UID:1033-1560506400-1560513600@riojadigital.es
SUMMARY:Concierto de la Fundación García Fajer
DESCRIPTION:Concierto de la Fundación García Fajer.
URL:https://riojadigital.es/event/concierto-de-la-fundacion-garcia-fajer/
END:VEVENT
BEGIN:VEVENT
DTSTART;TZID=Europe/Madrid:20190614T103000
DTEND;TZID=Europe/Madrid:20190614T120000
DTSTAMP:20260423T140831
CREATED:20190603T075504Z
LAST-MODIFIED:20190603T075504Z
UID:1034-1560508200-1560513600@riojadigital.es
SUMMARY:Pregón de las Fiestas de San Bernabé a cargo del Abad de la Catedral de Santo Domingo de la Calzada\, Rvdo. P. Francisco José Suárez
DESCRIPTION:Pregón de las Fiestas de San Bernabé a cargo del Abad de la Catedral de Santo Domingo de la Calzada\, Rvdo. P. Francisco José Suárez.
URL:https://riojadigital.es/event/pregon-de-las-fiestas-de-san-bernabe-a-cargo-del-abad-de-la-catedral-de-santo-domingo-de-la-calzada-rvdo-p-francisco-jose-suarez/
END:VEVENT
BEGIN:VEVENT
DTSTART;TZID=Europe/Madrid:20190615T030000
DTEND;TZID=Europe/Madrid:20190615T120000
DTSTAMP:20260423T140831
CREATED:20190603T082312Z
LAST-MODIFIED:20190603T082312Z
UID:1044-1560567600-1560600000@riojadigital.es
SUMMARY:Entrega de los galardones del Centro Riojano de Madrid.
DESCRIPTION:Entrega de los galardones del Centro Riojano de Madrid.
URL:https://riojadigital.es/event/entrega-de-los-galardones-del-centro-riojano-de-madrid-2/
END:VEVENT
BEGIN:VEVENT
DTSTART;TZID=Europe/Madrid:20190615T040000
DTEND;TZID=Europe/Madrid:20190615T120000
DTSTAMP:20260423T140831
CREATED:20190603T075722Z
LAST-MODIFIED:20190603T075722Z
UID:1035-1560571200-1560600000@riojadigital.es
SUMMARY:Misa en la Iglesia Parroquial Santísimo Cristo de la Salud\, C/ Ayala\, 12\, Madrid\, oficiada por el Rvdo. P. Santiago Madrigal Terrazas. Interviene el Coro Galileo.
DESCRIPTION:Misa en la Iglesia Parroquial Santísimo Cristo de la Salud\, C/ Ayala\, 12\, Madrid\, oficiada por el Rvdo. P. Santiago Madrigal Terrazas.\nInterviene el Coro Galileo.
URL:https://riojadigital.es/event/misa-en-la-iglesia-parroquial-santisimo-cristo-de-la-salud-c-ayala-12-madrid-oficiada-por-el-rvdo-p-santiago-madrigal-terrazas-interviene-el-coro-galileo/
END:VEVENT
BEGIN:VEVENT
DTSTART;TZID=Europe/Madrid:20190615T060000
DTEND;TZID=Europe/Madrid:20190615T120000
DTSTAMP:20260423T140831
CREATED:20190603T082447Z
LAST-MODIFIED:20190603T082447Z
UID:1045-1560578400-1560600000@riojadigital.es
SUMMARY:Comida de Hermandad Riojana.
DESCRIPTION:Comida de Hermandad Riojana.
URL:https://riojadigital.es/event/comida-de-hermandad-riojana/
END:VEVENT
BEGIN:VEVENT
DTSTART;TZID=Europe/Madrid:20190617T103000
DTEND;TZID=Europe/Madrid:20190617T120000
DTSTAMP:20260423T140831
CREATED:20190603T080000Z
LAST-MODIFIED:20190603T080000Z
UID:1037-1560767400-1560772800@riojadigital.es
SUMMARY:Charla y presentación de la NUEVA COLECCIÓN DE JOYAS de Dña. Laura Domínguez Merino.
DESCRIPTION:Charla y presentación de la NUEVA COLECCIÓN DE JOYAS de Dña. Laura Domínguez Merino.
URL:https://riojadigital.es/event/charla-y-presentacion-de-la-nueva-coleccion-de-joyas-de-dna-laura-dominguez-merino/
END:VEVENT
BEGIN:VEVENT
DTSTART;TZID=Europe/Madrid:20190617T103000
DTEND;TZID=Europe/Madrid:20190617T120000
DTSTAMP:20260423T140831
CREATED:20190603T082629Z
LAST-MODIFIED:20190603T082629Z
UID:1046-1560767400-1560772800@riojadigital.es
SUMMARY:Presentación del libro “LA JUSTICIA EN EL ESTADO DE PARTIDOS”
DESCRIPTION:Presentación del libro “LA JUSTICIA EN EL ESTADO DE PARTIDOS” .
URL:https://riojadigital.es/event/presentacion-del-libro-la-justicia-en-el-estado-de-partidos/
END:VEVENT
BEGIN:VEVENT
DTSTART;TZID=Europe/Madrid:20190619T103000
DTEND;TZID=Europe/Madrid:20190619T120000
DTSTAMP:20260423T140831
CREATED:20190603T080227Z
LAST-MODIFIED:20190603T080227Z
UID:1038-1560940200-1560945600@riojadigital.es
SUMMARY:Conferencia del Foro de las Naciones Unidas: “DEPORTE PARA LA PAZ”
DESCRIPTION:Conferencia del Foro de las Naciones Unidas: “DEPORTE PARA LA PAZ”
URL:https://riojadigital.es/event/conferencia-del-foro-de-las-naciones-unidas-deporte-para-la-paz/
END:VEVENT
BEGIN:VEVENT
DTSTART;TZID=Europe/Madrid:20190621T103000
DTEND;TZID=Europe/Madrid:20190621T120000
DTSTAMP:20260423T140831
CREATED:20190603T080606Z
LAST-MODIFIED:20190603T081709Z
UID:1040-1561113000-1561118400@riojadigital.es
SUMMARY:Presentación del libro: “LA VIDA NO ES UNA VULGAR PELÍCULA”
DESCRIPTION:Presentación del libro: “LA VIDA NO ES UNA VULGAR PELÍCULA” .
URL:https://riojadigital.es/event/conferencia-del-foro-de-las-naciones-unidas-deporte-para-la-paz-2/
END:VEVENT
BEGIN:VEVENT
DTSTART;TZID=Europe/Madrid:20190624T103000
DTEND;TZID=Europe/Madrid:20190624T120000
DTSTAMP:20260423T140831
CREATED:20190603T080755Z
LAST-MODIFIED:20190606T074110Z
UID:1041-1561372200-1561377600@riojadigital.es
SUMMARY:Actuación de música  del dúo formado por Vivianna Giannaki (soprano) y Mariano Gil (guitarrista).
DESCRIPTION:Actuación de música  del dúo formado por Vivianna Giannaki (soprano) y Mariano Gil (guitarrista). \nPresentados por D. José Antonio Rupérez Caño y D. Juan David Latorre. \nAl finalizar el acto se servirá un vino de Rioja
URL:https://riojadigital.es/event/actuacion-de-musica-el-duo-por-dna-vivana-glannaki-soprano-y-d-mariano-gil-guitarrista/
END:VEVENT
BEGIN:VEVENT
DTSTART;TZID=Europe/Madrid:20190625T103000
DTEND;TZID=Europe/Madrid:20190625T120000
DTSTAMP:20260423T140831
CREATED:20190603T081011Z
LAST-MODIFIED:20190603T081011Z
UID:1042-1561458600-1561464000@riojadigital.es
SUMMARY:Conferencia: “DUDAS Y CERTEZAS EN TORNO AL POPULISMO EN IBEROAMÉRICA”
DESCRIPTION:Conferencia: “DUDAS Y CERTEZAS EN TORNO AL POPULISMO EN IBEROAMÉRICA”.
URL:https://riojadigital.es/event/conferencia-dudas-y-certezas-en-torno-al-populismo-en-iberoamerica/
END:VEVENT
BEGIN:VEVENT
DTSTART;TZID=Europe/Madrid:20190916T103000
DTEND;TZID=Europe/Madrid:20190916T103000
DTSTAMP:20260423T140831
CREATED:20190911T040232Z
LAST-MODIFIED:20190913T052017Z
UID:1261-1568629800-1568629800@riojadigital.es
SUMMARY:Conferencia TRABAJANDO POR LA PAZ
DESCRIPTION:Lunes\, 16 de septiembre de 2019 \n19:30 horas. Salón La Lengua \nConferencia TRABAJANDO POR LA PAZ\, impartida por D. Miguel Ángel Taus Rodríguez. Organizada por el Círculo Intercultural Hispano Árabe (CIHAR). \nAl finalizar el acto se servirá un vino de Rioja.
URL:https://riojadigital.es/event/conferencia-trabajando-por-la-paz/
END:VEVENT
BEGIN:VEVENT
DTSTART;TZID=Europe/Madrid:20190917T093000
DTEND;TZID=Europe/Madrid:20190917T093000
DTSTAMP:20260423T140831
CREATED:20190911T040517Z
LAST-MODIFIED:20190911T040517Z
UID:1262-1568712600-1568712600@riojadigital.es
SUMMARY:Presentación del curso de inicio a la escritura creativa: RENGLONES LITERARIOS
DESCRIPTION:Martes\, 17 de septiembre de 2019 \n18:30 horas. Salón La Lengua \nPresentación del curso de inicio a la escritura creativa: RENGLONES LITERARIOS. Coordinado por Dña. Rosa Fernández y presentado por Dña. Marisa Rodríguez\, presidenta de Mujeres en Igualdad. Distrito de Salamanca.
URL:https://riojadigital.es/event/presentacion-del-curso-de-inicio-a-la-escritura-creativa-renglones-literarios-2/
END:VEVENT
BEGIN:VEVENT
DTSTART;TZID=Europe/Madrid:20190918T103000
DTEND;TZID=Europe/Madrid:20190918T103000
DTSTAMP:20260423T140831
CREATED:20190911T040722Z
LAST-MODIFIED:20190911T040722Z
UID:1263-1568802600-1568802600@riojadigital.es
SUMMARY:II FORO DE LAS NACIONES UNIDAS
DESCRIPTION:Miércoles\, 18 de septiembre de 2019 \n19:30 horas. Salón la Lengua. \nII FORO DE LAS NACIONES UNIDAS. Conferencia “TÚNEZ EN EL CAMINO HACIA LA DEMOCRACIA”\, impartida  por el Excmo. Sr. D. Wacef Chiha\, embajador de Túnez en España. \nPreside: D. José Antonio Rupérez Caño\, presidente del Centro Riojano de Madrid. Presenta: D. Joaquín Antuña\, presidente de Paz y Cooperación. \nAl finalizar el acto se servirá un vino de Rioja.
URL:https://riojadigital.es/event/ii-foro-de-las-naciones-unidas/
END:VEVENT
BEGIN:VEVENT
DTSTART;TZID=Europe/Madrid:20190919T103000
DTEND;TZID=Europe/Madrid:20190919T103000
DTSTAMP:20260423T140831
CREATED:20190911T040831Z
LAST-MODIFIED:20190911T040831Z
UID:1264-1568889000-1568889000@riojadigital.es
SUMMARY:Presentación libro “DESPUES DEL 68: LA DERIVA TERRORISTA EN OCCIDENTE”
DESCRIPTION:Jueves\, 19 de septiembre de 2019 \n19:30 horas. Salón La Lengua. \nPresentación libro “DESPUES DEL 68: LA DERIVA TERRORISTA EN OCCIDENTE”\, por   sus autores: D. Juan Avilés\, D. José Manuel Azcona y D. Matteo Re. Presentado por D. José Antonio Rupérez Caño\, presidente del Centro Riojano de Madrid. \nAl finalizar el acto se servirá un vino de Rioja.
URL:https://riojadigital.es/event/presentacion-libro-despues-del-68-la-deriva-terrorista-en-occidente/
END:VEVENT
BEGIN:VEVENT
DTSTART;TZID=Europe/Madrid:20190920T103000
DTEND;TZID=Europe/Madrid:20190920T103000
DTSTAMP:20260423T140831
CREATED:20190911T040923Z
LAST-MODIFIED:20190911T040923Z
UID:1265-1568975400-1568975400@riojadigital.es
SUMMARY:Presentación libro “¿QUIÉN LEERÁ ESTO?
DESCRIPTION:Viernes\, 20 de septiembre de 2019 \n19:30 horas. Salón Gonzalo de Berceo. \nPresentación libro “¿QUIÉN LEERÁ ESTO? de D. José Félix Olalla. Editorial Vitruvio.
URL:https://riojadigital.es/event/presentacion-libro-quien-leera-esto/
END:VEVENT
BEGIN:VEVENT
DTSTART;TZID=Europe/Madrid:20190924T103000
DTEND;TZID=Europe/Madrid:20190924T103000
DTSTAMP:20260423T140831
CREATED:20190911T041051Z
LAST-MODIFIED:20190911T041051Z
UID:1266-1569321000-1569321000@riojadigital.es
SUMMARY:Fiestas de San Mateo
DESCRIPTION:Martes\, 24 de septiembre de 2019 \n19:30 horas. Salón Gonzalo de Berceo \nCon motivo de las Fiestas de San Mateo\, el Centro Riojano de Madrid invita a todos los socios a una MERIENDA RIOJANA CON ZURRACAPOTE.
URL:https://riojadigital.es/event/fiestas-de-san-mateo/
END:VEVENT
BEGIN:VEVENT
DTSTART;TZID=Europe/Madrid:20190926T103000
DTEND;TZID=Europe/Madrid:20190926T103000
DTSTAMP:20260423T140831
CREATED:20190911T041147Z
LAST-MODIFIED:20190911T041147Z
UID:1267-1569493800-1569493800@riojadigital.es
SUMMARY:Presentación libro “EXTRAVAGANCIA INFINITA”
DESCRIPTION:Jueves\, 26 de septiembre de 2019 \n19:30 horas. Salón Gonzalo de Berceo. \nPresentación libro “EXTRAVAGANCIA INFINITA”\, de D. Javier Olalde. Editorial Vitruvio.
URL:https://riojadigital.es/event/presentacion-libro-extravagancia-infinita/
END:VEVENT
BEGIN:VEVENT
DTSTART;TZID=Europe/Madrid:20190927T103000
DTEND;TZID=Europe/Madrid:20190927T103000
DTSTAMP:20260423T140831
CREATED:20190911T041245Z
LAST-MODIFIED:20190911T041245Z
UID:1268-1569580200-1569580200@riojadigital.es
SUMMARY:Conferencia: “ESPAÑOLES EN LA SEGUNDA GUERRA MUNDIAL”
DESCRIPTION:Viernes\, 27 de septiembre de 2019 \n19:30 horas. Salón La Lengua \nConferencia: “ESPAÑOLES EN LA SEGUNDA GUERRA MUNDIAL”\, impartida por D. Fernando Garrido Polonio. \nAl finalizar el acto se servirá un vino de Rioja.
URL:https://riojadigital.es/event/conferencia-espanoles-en-la-segunda-guerra-mundial/
END:VEVENT
BEGIN:VEVENT
DTSTART;TZID=Europe/Madrid:20191002T103000
DTEND;TZID=Europe/Madrid:20191007T023742
DTSTAMP:20260423T140831
CREATED:20191007T043742Z
LAST-MODIFIED:20191007T043742Z
UID:1339-1570012200-1570415862@riojadigital.es
SUMMARY:Recital de poesía
DESCRIPTION:Recital de poesía “EN TARDES DE PROMETEO”\, espacio literario de la Asociación Prometeo de Poesía.  Coordina: Ángela Reyes.
URL:https://riojadigital.es/event/recital-de-poesia/
END:VEVENT
BEGIN:VEVENT
DTSTART;TZID=Europe/Madrid:20191003T103000
DTEND;TZID=Europe/Madrid:20191007T023929
DTSTAMP:20260423T140831
CREATED:20191007T043929Z
LAST-MODIFIED:20191007T043929Z
UID:1341-1570098600-1570415969@riojadigital.es
SUMMARY:Curso de inicio a la escritura creativa: RENGLONES LITERARIOS
DESCRIPTION:Coordinado por Dña. Rosa Fernández y presentado por Dña. Marisa Rodríguez\, presidenta de Mujeres en Igualdad. Distrito de Salamanca. \nPrecio del curso completo 50 € p.p.
URL:https://riojadigital.es/event/curso-de-inicio-a-la-escritura-creativa-renglones-literarios/
END:VEVENT
END:VCALENDAR