BEGIN:VCALENDAR
VERSION:2.0
PRODID:-//Rioja digital - ECPv6.1.3//NONSGML v1.0//EN
CALSCALE:GREGORIAN
METHOD:PUBLISH
X-ORIGINAL-URL:https://riojadigital.es
X-WR-CALDESC:Eventos para Rioja digital
REFRESH-INTERVAL;VALUE=DURATION:PT1H
X-Robots-Tag:noindex
X-PUBLISHED-TTL:PT1H
BEGIN:VTIMEZONE
TZID:Europe/Paris
BEGIN:DAYLIGHT
TZOFFSETFROM:+0100
TZOFFSETTO:+0200
TZNAME:CEST
DTSTART:20190331T010000
END:DAYLIGHT
BEGIN:STANDARD
TZOFFSETFROM:+0200
TZOFFSETTO:+0100
TZNAME:CET
DTSTART:20191027T010000
END:STANDARD
TZID:UTC
BEGIN:STANDARD
TZOFFSETFROM:+0000
TZOFFSETTO:+0000
TZNAME:UTC
DTSTART:20181231T150000
END:STANDARD
END:VTIMEZONE
BEGIN:VEVENT
DTSTART;TZID=Europe/Paris:20190205T103000
DTEND;TZID=Europe/Paris:20190205T120000
DTSTAMP:20260425T172355
CREATED:20190204T013715Z
LAST-MODIFIED:20190204T013747Z
UID:140-1549362600-1549368000@riojadigital.es
SUMMARY:Presentación libro "HERMANO TIEMPO"
DESCRIPTION:Presentación del libro «HERMANOS TIEMPO» de Dña. Beatriz Villacañas. Editorial Vitruvi.
URL:https://riojadigital.es/event/presentacion-libro-hermano-tiempo/
END:VEVENT
BEGIN:VEVENT
DTSTART;TZID=UTC:20190206T100000
DTEND;TZID=UTC:20190206T120000
DTSTAMP:20260425T172355
CREATED:20190201T075945Z
LAST-MODIFIED:20190201T075945Z
UID:122-1549447200-1549454400@riojadigital.es
SUMMARY:Recital de poesía “EN TARDES DE PROMETEO”
DESCRIPTION:Recital de poesía “EN TARDES DE PROMETEO”\, espacio literario de la Asociación Prometeo de Poesía. \nCoordina:  \nÁngela Reyes.         \nJosé Luis Pérez Puente\, hará una lectura de su poesía.  \nEn Poetas para el Recuerdo:  \nLuis López Anglada\, presta su voz Alejandro Moreno Romero.
URL:https://riojadigital.es/event/recital-de-poesia-en-tardes-de-prometeo/
END:VEVENT
BEGIN:VEVENT
DTSTART;TZID=Europe/Paris:20190206T103000
DTEND;TZID=Europe/Paris:20190206T120000
DTSTAMP:20260425T172355
CREATED:20190204T015740Z
LAST-MODIFIED:20190204T015740Z
UID:142-1549449000-1549454400@riojadigital.es
SUMMARY:Conferencia "REALIDADES Y DESAFÍOS DEL TURISMO GLOBAL"
DESCRIPTION:Conferencia «REALIDADES Y DESAFÍOS DEL TURISMO GLOBAL»\, del FORO DE LAS NACIONES UNIDAS impartida por: \nD. Jaime Alberto Cabal Sanclemente\, Secretario Gral. Adjunto de la OMT. \nPreside: D. Jose Antonio Ruperez Caño\, presidente del Centro Riojano de Madrid. \nInterviene: D. Joaquin Antuña\, presidente y fundador de Paz y Cooperación. \nAl finalizar el acto se servirá un vino de Rioja. \n 
URL:https://riojadigital.es/event/conferencia-realidades-y-desafios-del-turismo-global/
END:VEVENT
BEGIN:VEVENT
DTSTART;TZID=Europe/Paris:20190207T100000
DTEND;TZID=Europe/Paris:20190207T120000
DTSTAMP:20260425T172355
CREATED:20190206T010807Z
LAST-MODIFIED:20190206T010807Z
UID:160-1549533600-1549540800@riojadigital.es
SUMMARY:Seminario de historia LOS AUSTRIAS MENORES Y FELIPE V.
DESCRIPTION:Seminario de historia LOS AUSTRIAS MENORES Y FELIPE V. \nConferencia: 1598 – 1621: FELIPE III «EL REY PIADOSO» (2ª parte)\, impartida por D. Leonardo Bermejo Sáez\, promotor y autor del ciclo. \nAl finalizar el acto de servirá un vino de Rioja.
URL:https://riojadigital.es/event/seminario-de-historia-los-austrias-menores-y-felipe-v/
END:VEVENT
BEGIN:VEVENT
DTSTART;TZID=Europe/Paris:20190208T103000
DTEND;TZID=Europe/Paris:20190208T120000
DTSTAMP:20260425T172355
CREATED:20190206T011607Z
LAST-MODIFIED:20190206T011607Z
UID:162-1549621800-1549627200@riojadigital.es
SUMMARY:Presentación del libro "EN UN LUGAR DEL CARIBE"
DESCRIPTION:Presentación del libro «EN UN LUGAR DEL CARIBE«\, de Dña. Irene Mckinstry Oria\, Licenciada en Geografía e Historia por la UCM. \nPresentada por D. Pedro López Arriba\, expresidente del Centro riojano de Madrid\, D. Leopoldo López Gil\, empresario venezolano y Vidal Pérez Herreros\, editor. \nClausura el acto D. Emilio del Río\, Diputado por La Rioja. \nAl finalizar el acto se servirá un vino de Rioja.
URL:https://riojadigital.es/event/presentacion-del-libro-en-un-lugar-del-caribe/
END:VEVENT
BEGIN:VEVENT
DTSTART;TZID=Europe/Paris:20190211T110000
DTEND;TZID=Europe/Paris:20190211T120000
DTSTAMP:20260425T172355
CREATED:20190206T012617Z
LAST-MODIFIED:20190206T012617Z
UID:163-1549882800-1549886400@riojadigital.es
SUMMARY:XI JORNADAS DE PARAPSICOLOGIA
DESCRIPTION:XI JORNADAS DE PARAPSICOLOGíA\, organizadas por el Grupo Hepta. \nConferencia «CRIMENES Y FENÓMENOS PARANORMALES» Impartida por Juan Sánchez Rafa\, periodista y escritor.
URL:https://riojadigital.es/event/xi-jornadas-de-parapsicologia/
END:VEVENT
BEGIN:VEVENT
DTSTART;TZID=Europe/Paris:20190212T100000
DTEND;TZID=Europe/Paris:20190212T120000
DTSTAMP:20260425T172355
CREATED:20190206T013102Z
LAST-MODIFIED:20190206T013102Z
UID:165-1549965600-1549972800@riojadigital.es
SUMMARY:Recital de Poesía del ciclo LA RIOJA POÉTICA
DESCRIPTION:Recital de Poesía del ciclo LA RIOJA POÉTICA dirigida por Dña. Rosario de la Cueva. Recital a cargo de las poetas Dña. Mary Paz Hernández y Dña. Sol de Diego. \nAl finalizar el acto ser servirá un vino de Rioja.
URL:https://riojadigital.es/event/recital-de-poesia-del-ciclo-la-rioja-poetica/
END:VEVENT
BEGIN:VEVENT
DTSTART;TZID=Europe/Paris:20190212T100000
DTEND;TZID=Europe/Paris:20190212T120000
DTSTAMP:20260425T172355
CREATED:20190206T015715Z
LAST-MODIFIED:20190206T015715Z
UID:170-1549965600-1549972800@riojadigital.es
SUMMARY:Ciclo de la FUNDACION DE CASAS HISTÓRICAS Y SINGULARES.
DESCRIPTION:Ciclo de la FUNDACION DE CASAS HISTÓRICAS Y SINGULARES. \nConferencia «CASAS HISTORICAS\, PASADO\, PRESENTE Y FUTURO«. Impartida por D. Javier Bahamonde Santiso de Ossorio. \nAl finalizar el acto se servira un vino de Rioja.
URL:https://riojadigital.es/event/ciclo-de-la-fundacion-de-casas-historicas-y-singulares/
END:VEVENT
BEGIN:VEVENT
DTSTART;TZID=Europe/Paris:20190213T020000
DTEND;TZID=Europe/Paris:20190213T143000
DTSTAMP:20260425T172355
CREATED:20190206T013809Z
LAST-MODIFIED:20190206T013809Z
UID:166-1550023200-1550068200@riojadigital.es
SUMMARY:Visita guiada a SAN FRANCISCO EL GRANDE
DESCRIPTION:Visitia guiada a SAN FRANCISCO EL GRANDE\, Pl. de San Francisco el Grande\, s/n. \nEn la visitia\, además de la espectacular arquitectura del templo\, se muestran pinturas y esculturas realizadas por Goya\, González Velázquez\, Alonso Cano\, Luca Giordano Zurbarán y Mariano Benlliure entre otros. \nSocios: Gratis \nNo Socios: 4 € \nImprescindible apuntarse en secretaria.
URL:https://riojadigital.es/event/visita-guiada-a-san-francisco-el-grande/
END:VEVENT
BEGIN:VEVENT
DTSTART;TZID=Europe/Paris:20190215T103000
DTEND;TZID=Europe/Paris:20190215T120000
DTSTAMP:20260425T172355
CREATED:20190206T014037Z
LAST-MODIFIED:20190206T015303Z
UID:167-1550226600-1550232000@riojadigital.es
SUMMARY:Presentación del libro "AHORA CON OTRO TIEMPO"
DESCRIPTION:Presentación del libro «AHORA CON OTRO TIEMPO» de Dña. Pepa Miranda. Editorial Vitruvio.
URL:https://riojadigital.es/event/presentacion-del-libro-ahora-con-otro-tiempo/
END:VEVENT
BEGIN:VEVENT
DTSTART;TZID=Europe/Paris:20190218T103000
DTEND;TZID=Europe/Paris:20190218T120000
DTSTAMP:20260425T172355
CREATED:20190206T014747Z
LAST-MODIFIED:20190206T015128Z
UID:168-1550485800-1550491200@riojadigital.es
SUMMARY:Conferencia "LA EXTRAORDINARIA HISTORIA DE ALEJANDRO FARNERIO"
DESCRIPTION:Conferencia «LA EXTRAORDINARIA HISTORIA DE ALEJANDRO FARNESIO«\, impartida por D. Luis de Carlos\, Socio Presidente de Uría Menéndez\, Presentado por D. Emilio del Río Sanz y D. Jose Antonio Rupérez Caño. \nAl finalizar el acto se servira una copa de vino de Rioja.
URL:https://riojadigital.es/event/conferencia-la-extraordinaria-historia-de-alejandro-farnerio/
END:VEVENT
BEGIN:VEVENT
DTSTART;TZID=Europe/Paris:20190219T100000
DTEND;TZID=Europe/Paris:20190219T120000
DTSTAMP:20260425T172355
CREATED:20190206T015035Z
LAST-MODIFIED:20190206T015035Z
UID:169-1550570400-1550577600@riojadigital.es
SUMMARY:XI JORNADAS DE PARAPSICOLOGÍA
DESCRIPTION:XI JORNADAS DE PARAPSICOLOGÍA\, organizadas por el grupo Hepta. \nConferencia «CUANDO EL MISTERIO LLAMA A TU PUERTA» impartida por Carlos Lago\, escritor e investigador.
URL:https://riojadigital.es/event/xi-jornadas-de-parapsicologia-2/
END:VEVENT
BEGIN:VEVENT
DTSTART;TZID=Europe/Paris:20190219T100000
DTEND;TZID=Europe/Paris:20190219T120000
DTSTAMP:20260425T172355
CREATED:20190206T020516Z
LAST-MODIFIED:20190206T020516Z
UID:171-1550570400-1550577600@riojadigital.es
SUMMARY:Presentación del libro "EL TRATADO DE LA VID DE LOUIS DUSSIEUX Y EL TRATADO DEL VINO DE JEAN ANTOINE CHAPTAL DE 1796 CONSERVADOS EN LA BIBLIOTECA DE SAN MILLÁN. CONTEXTUALIZACIÓN Y ESTUDIO DE LA TRADUCCIÓN DE 1803"
DESCRIPTION:Presentación del Libro «EL TRATADO DE LA VID DE LOUIS DUSSIEUX Y EL TRATADO DEL VINO DE JEAN ANTOINE CHAPTAL DE 1796 CONSERVADOS EN LA BIBLIOTECA DE SAN MILLÁN. CONTEXTUALIZACIÓN Y ESTUDIO DE LA TRADUCCIÓN DE 1803» \nPor su autor D. Miguel Ibañez y presentado por Dña. Leonor Gonzalez Menorca\, Consejera de Desarrollo Económico e Innovación y vicepresidenta de la Fundación San Millán de la Cogolla\, y D. José Antonio Rupérez Caño\, presidente del Centro Riojano de Madrid. \nEl acto finalizara con un pequeño concierto de Violín a cargo de Irene Ibañez Rubio. \nAl finalizar el acto se servira un vino de Rioja.
URL:https://riojadigital.es/event/presentacion-del-libro-el-tratado-de-la-vid-de-louis-dussieux-y-el-tratado-del-vino-de-jean-antoine-chaptal-de-1796-conservados-en-la-biblioteca-de-san-millan-contextualizacion-y-estudio-de-la-trad/
END:VEVENT
BEGIN:VEVENT
DTSTART;TZID=Europe/Paris:20190220T080000
DTEND;TZID=Europe/Paris:20190220T130000
DTSTAMP:20260425T172355
CREATED:20190206T031155Z
LAST-MODIFIED:20190206T031155Z
UID:175-1550649600-1550667600@riojadigital.es
SUMMARY:Ciclo "DIÁLOGOS FILOSÓFICOS"
DESCRIPTION:Ciclo «DIALOGOS FILOSOFICOS«. \nConferencia «EL MITO DEL ARTE CONTEMPORÁNEO«. \nAcargo de D. Iván Vélez\, D. Carlos Madrid y D. Jesús Mateo\, autor de las Pinturas Murales de Alarcón.
URL:https://riojadigital.es/event/ciclo_dialogos_filosoficos/
END:VEVENT
BEGIN:VEVENT
DTSTART;TZID=Europe/Paris:20190221T103000
DTEND;TZID=Europe/Paris:20190221T120000
DTSTAMP:20260425T172355
CREATED:20190206T042029Z
LAST-MODIFIED:20190206T042029Z
UID:176-1550745000-1550750400@riojadigital.es
SUMMARY:Ciclo DOS EFEMÉRIDES DE LA CONQUISTA DE MÉXICO.
DESCRIPTION:Ciclo «DOS EFEMÉRIDES DE A CONQUISTA DE MÉXICO«. \n1ª Efemeride «V CENTENARIO DE LA CONQUISTA DE MEXICO«. \n1ª Conferencia «MEXICO\, UN ACCIDENTE EN LA RUTA HACIA ORIENTE«. \nImpartida por D. José Mª Gonzaléz Ochoa\, historiador\, periodista\, master Relaciones Internacionales y director de programas en Fundación SM. \nAl finalizar el acto se servirá una copa de vino de Rioja.
URL:https://riojadigital.es/event/ciclo-dos-efemerides-de-la-conquista-de-mexico/
END:VEVENT
BEGIN:VEVENT
DTSTART;TZID=Europe/Paris:20190222T103000
DTEND;TZID=Europe/Paris:20190222T120000
DTSTAMP:20260425T172355
CREATED:20190206T071739Z
LAST-MODIFIED:20190206T071739Z
UID:185-1550831400-1550836800@riojadigital.es
SUMMARY:Presentación del libro "EL VALOR DE UNA PROMESA"
DESCRIPTION:Presentacion del libro «EL VALOR DE UNA PROMESA» de D. Miguel Pérez de Castro. \nPresentada por D. Constantino Mediavilla\, de Diario Madrid y Dña. Lidia González\, de Editorial Nueva Estrella \nAl finalizar el acto se servirá un vino de Rioja.
URL:https://riojadigital.es/event/presentacion-del-libro-el-valor-de-una-promesa/
END:VEVENT
BEGIN:VEVENT
DTSTART;TZID=Europe/Paris:20190225T110000
DTEND;TZID=Europe/Paris:20190225T120000
DTSTAMP:20260425T172355
CREATED:20190206T074807Z
LAST-MODIFIED:20190206T074807Z
UID:189-1551092400-1551096000@riojadigital.es
SUMMARY:XI JORNADAS DE PARAPSICOLOGÍA
DESCRIPTION:XI JORNADAS DE PARAPSICOLOGÍA\, organizadas por el grupo Hepta. \nConferencia «ENCUENTROS CON EL MIEDO» Impartida por Javier Pérez Campos\, escritor e investigador.
URL:https://riojadigital.es/event/xi-jornadas-de-parapsicologia-3/
END:VEVENT
BEGIN:VEVENT
DTSTART;TZID=Europe/Paris:20190226T100000
DTEND;TZID=Europe/Paris:20190226T120000
DTSTAMP:20260425T172355
CREATED:20190206T075129Z
LAST-MODIFIED:20190206T075129Z
UID:190-1551175200-1551182400@riojadigital.es
SUMMARY:Ciclo de la FUNDACIÓN DE CASAS HISTÓRICAS Y SINGULARES.
DESCRIPTION:Ciclo de la FUNDICIÓN DE CASAS HISTÓRICAS Y SINGULARES. \nConferencia «REAL FUERTE DE LA CONCEPCIÓN: ÚNICA INICIATIVA PRIVADA PARA RECUPERAR UNA FORTALEZA VAUBAN EN ESPAÑA«\, a cargo de D. Luis Eugenio Togores Sánchez\, Doctor en Historia. Profesor de la Universidad de CEU San Pablo \nAl finalizar el acto se servirá un vino de Rioja.
URL:https://riojadigital.es/event/ciclo-de-la-fundacion-de-casas-historicas-y-singulares-2/
END:VEVENT
BEGIN:VEVENT
DTSTART;TZID=Europe/Paris:20190226T103000
DTEND;TZID=Europe/Paris:20190226T123000
DTSTAMP:20260425T172355
CREATED:20190206T075503Z
LAST-MODIFIED:20190206T075503Z
UID:191-1551177000-1551184200@riojadigital.es
SUMMARY:Exposición pintura "CREACIÓN EN COLOR"
DESCRIPTION:Inauguración exposición de pintura abstracta «CREACIÓN EN COLOR«\, de la pintora internacional María Mardomingo. \nPermanecerá hasta el día 7 de marzo. \nAl finalizar el acto se servirá un vino de Rioja.
URL:https://riojadigital.es/event/exposicion-pintura-creacion-en-color/
END:VEVENT
BEGIN:VEVENT
DTSTART;TZID=Europe/Paris:20190228T100000
DTEND;TZID=Europe/Paris:20190228T120000
DTSTAMP:20260425T172355
CREATED:20190206T075832Z
LAST-MODIFIED:20190206T075832Z
UID:192-1551348000-1551355200@riojadigital.es
SUMMARY:Seminario de Historia "LOS AUSTRIAS MENORES Y FELIPE V"
DESCRIPTION:Seminario de Historia LOS AUSTRIAS MENORES Y FELIPE V. \nConferencia\, 1621 – 1665: FELIPE IV «EL REY PLANETA» (1ª parte)\, impartida por D. Leonardo Bermejo Sáez\, promotor y autor de Rioja. \nAl finalizar el acto se servirá un vino de Rioja.
URL:https://riojadigital.es/event/seminario-de-historia-los-austrias-menores-y-felipe-v-2/
END:VEVENT
END:VCALENDAR